BEGIN:VCALENDAR
VERSION:2.0
PRODID:-//ChamberMaster//Event Calendar 2.0//EN
METHOD:PUBLISH
X-PUBLISHED-TTL:P3D
REFRESH-INTERVAL:P3D
CALSCALE:GREGORIAN
BEGIN:VEVENT
DTSTART:20181018T200000Z
DTEND:20181018T210000Z
X-MICROSOFT-CDO-ALLDAYEVENT:FALSE
SUMMARY:The Blind Pig Bourbon Speakeasy Ribbon Cutting
DESCRIPTION:Please join us for our Grand opening and Ribbion cutting at 4:00pm. Step back into the 1920's and have a coctail or maybe a class of wine. Come celebrate in one of the top 100 bars in the country.
X-ALT-DESC;FMTTYPE=text/html:Please join us for our Grand opening and Ribbion cutting at 4:00pm. Step back into the 1920&#39\;s and have a coctail or maybe a class of wine. Come celebrate in one of the top 100 bars in the country.&nbsp\;
LOCATION:
UID:e.2912.1607
SEQUENCE:3
DTSTAMP:20260419T194547Z
URL:https://members.bardstownchamber.com/events/details/the-blind-pig-bourbon-speakeasy-ribbon-cutting-1607
END:VEVENT

END:VCALENDAR
