BEGIN:VCALENDAR
VERSION:2.0
PRODID:-//ChamberMaster//Event Calendar 2.0//EN
METHOD:PUBLISH
X-PUBLISHED-TTL:P3D
REFRESH-INTERVAL:P3D
CALSCALE:GREGORIAN
BEGIN:VEVENT
DTSTART:20180628T130000Z
DTEND:20180628T160000Z
X-MICROSOFT-CDO-ALLDAYEVENT:FALSE
SUMMARY:Talent Pipeline Management Meeting
DESCRIPTION:Talent Pipeline Management (TPM) is a program created by the U.S. Chamber of Commerce\, it is a demand-driven approach to close the skills gap. The Kentucky Workforce Investment Board and the Kentucky Chamber Workforce Center has begun traveling the state to discuss TPM and how these free resources can empower and support local communities\, businesses and workforce leaders. As they travel the state\, they will meet with stakeholders from the Local Chamber\, SHRM\, Education\, Workforce Innovation Boards\, Business and Workforce Communities to explain the tools available through TPM to you\, at no cost.
X-ALT-DESC;FMTTYPE=text/html:<span style="color:#222222\;"><span style="font-family:arial\,sans-serif\;"><span style="font-size:9.5pt\;">Talent Pipeline Management (TPM) is a program created by the U.S. Chamber of Commerce\, it is a demand-driven approach to close the skills gap. The Kentucky Workforce Investment Board and the Kentucky Chamber Workforce Center has begun traveling the state to discuss TPM and how these&nbsp\;<strong>free resources</strong>&nbsp\;can empower and support local communities\, businesses and workforce leaders. As they travel the state\, they will meet with stakeholders from the Local Chamber\, SHRM\, Education\, Workforce Innovation Boards\, Business and Workforce Communities to explain the tools available through TPM to you\, at no cost.&nbsp\;</span></span></span><br />\n&nbsp\;
LOCATION:
UID:e.2912.1522
SEQUENCE:3
DTSTAMP:20260420T000101Z
URL:https://members.bardstownchamber.com/events/details/talent-pipeline-management-meeting-1522
END:VEVENT

END:VCALENDAR
