BEGIN:VCALENDAR
VERSION:2.0
PRODID:-//ChamberMaster//Event Calendar 2.0//EN
METHOD:PUBLISH
X-PUBLISHED-TTL:P3D
REFRESH-INTERVAL:P3D
CALSCALE:GREGORIAN
BEGIN:VEVENT
DTSTART:20180524T213000Z
DTEND:20180524T233000Z
X-MICROSOFT-CDO-ALLDAYEVENT:FALSE
SUMMARY:Summer Kick-Off at Maurices
DESCRIPTION:Join us from 5:30 - 7:30 pm  and let us get you styled for summer!  Enjoy the giveaways\, exclusive deals\, refreshments\, snacks and so much more!  We can't wait to see you!
X-ALT-DESC;FMTTYPE=text/html:Join us from 5:30 - 7:30 pm&nbsp\; and let us get you styled for summer!&nbsp\; Enjoy the giveaways\, exclusive deals\, refreshments\, snacks and so much more!&nbsp\; We can&#39\;t wait to see you!&nbsp\;
LOCATION:Maurices 106 W John Rowan Blvd. Bardstown\, KY 40004
UID:e.2912.1477
SEQUENCE:3
DTSTAMP:20260420T011556Z
URL:https://members.bardstownchamber.com/events/details/summer-kick-off-at-maurices-1477
END:VEVENT

END:VCALENDAR
