BEGIN:VCALENDAR
VERSION:2.0
PRODID:-//ChamberMaster//Event Calendar 2.0//EN
METHOD:PUBLISH
X-PUBLISHED-TTL:P3D
REFRESH-INTERVAL:P3D
CALSCALE:GREGORIAN
BEGIN:VEVENT
DTSTART:20180726T223000Z
DTEND:20180727T013000Z
X-MICROSOFT-CDO-ALLDAYEVENT:FALSE
SUMMARY:Stave & Thief Certified Bourbon Steward Class
DESCRIPTION:Want to expand your knowledge about America's Native Spirit?\n\n\n\nCome join the Kentucky Bourbon Festival for Stave & Thief Certified Bourbon Steward training. With help from our friends at Moonshine University \, we will lead you through an in-depth program to expand your knowledge and increase your confidence about all things Bourbon. Ticket price includes a Certified Bourbon Steward Handbook and the opportunity to earn a Stave & Thief Certified Bourbon Steward lapel pin. \n\n\n\n$55/person. \n\nMust be 21. \n\nRegistration required.
X-ALT-DESC;FMTTYPE=text/html:<span style="color: rgb(29\, 33\, 41)\; font-family: Helvetica\, Arial\, sans-serif\; font-size: 14px\; background-color: rgb(255\, 255\, 255)\;">Want to expand your knowledge about America&rsquo\;s Native Spirit?</span><br style="color: rgb(29\, 33\, 41)\; font-family: Helvetica\, Arial\, sans-serif\; font-size: 14px\; background-color: rgb(255\, 255\, 255)\;" />\n<br style="color: rgb(29\, 33\, 41)\; font-family: Helvetica\, Arial\, sans-serif\; font-size: 14px\; background-color: rgb(255\, 255\, 255)\;" />\n<span style="color: rgb(29\, 33\, 41)\; font-family: Helvetica\, Arial\, sans-serif\; font-size: 14px\; background-color: rgb(255\, 255\, 255)\;">Come join the Kentucky Bourbon Festival for Stave &amp\; Thief Certified Bourbon Steward training. With help from our friends at Moonshine University&reg\;\, we will lead you through an in-depth program to expand your knowledge and increase your confidence about all things Bourbon. Ticket price includes a Certified Bourbon Steward Handbook and the opportunity to earn a Stave &amp\; Thief Certified Bourbon Steward lapel pin.&nbsp\;</span><br style="color: rgb(29\, 33\, 41)\; font-family: Helvetica\, Arial\, sans-serif\; font-size: 14px\; background-color: rgb(255\, 255\, 255)\;" />\n<br style="color: rgb(29\, 33\, 41)\; font-family: Helvetica\, Arial\, sans-serif\; font-size: 14px\; background-color: rgb(255\, 255\, 255)\;" />\n<span style="color: rgb(29\, 33\, 41)\; font-family: Helvetica\, Arial\, sans-serif\; font-size: 14px\; background-color: rgb(255\, 255\, 255)\;">$55/person.&nbsp\;</span><br style="color: rgb(29\, 33\, 41)\; font-family: Helvetica\, Arial\, sans-serif\; font-size: 14px\; background-color: rgb(255\, 255\, 255)\;" />\n<span style="color: rgb(29\, 33\, 41)\; font-family: Helvetica\, Arial\, sans-serif\; font-size: 14px\; background-color: rgb(255\, 255\, 255)\;">Must be 21.&nbsp\;</span><br style="color: rgb(29\, 33\, 41)\; font-family: Helvetica\, Arial\, sans-serif\; font-size: 14px\; background-color: rgb(255\, 255\, 255)\;" />\n<span style="color: rgb(29\, 33\, 41)\; font-family: Helvetica\, Arial\, sans-serif\; font-size: 14px\; background-color: rgb(255\, 255\, 255)\;">Registration required.</span>
LOCATION:pin Kentucky Bourbon Festival 114 North Fifth Street\, Bardstown\, Kentucky 40004
UID:e.2912.1537
SEQUENCE:3
DTSTAMP:20260419T234738Z
URL:https://members.bardstownchamber.com/events/details/stave-thief-certified-bourbon-steward-class-1537
END:VEVENT

END:VCALENDAR
