BEGIN:VCALENDAR
VERSION:2.0
PRODID:-//ChamberMaster//Event Calendar 2.0//EN
METHOD:PUBLISH
X-PUBLISHED-TTL:P3D
REFRESH-INTERVAL:P3D
CALSCALE:GREGORIAN
BEGIN:VEVENT
DTSTART:20251015T160000Z
DTEND:20251015T170000Z
X-MICROSOFT-CDO-ALLDAYEVENT:FALSE
SUMMARY:StaffMark Ribbon Cutting
DESCRIPTION:Join Us for a Ribbon Cutting!\n\n\nStaffMark \n\nOctober 15th at Noon\n\n980 Chambers Blvd.\n\nBardstown\, KY 40004
X-ALT-DESC;FMTTYPE=text/html:<em><span style="color: rgb(51\, 51\, 51)\; font-family: sans-serif\, Arial\, Verdana\, &quot\;Trebuchet MS&quot\;\; font-size: 13px\;"><span style="font-family: arial\, sans-serif\; font-size: 26px\;">Join Us for a Ribbon Cutting!</span></span></em>\n<div style="color: rgb(51\, 51\, 51)\; font-family: sans-serif\, Arial\, Verdana\, &quot\;Trebuchet MS&quot\;\; font-size: 13px\;"><br />\n<span style="color: rgb(0\, 0\, 0)\;"><span style="font-size: 26px\;"><b>StaffMark&nbsp\;</b><br />\nOctober 15th at Noon</span></span><br />\n<span style="font-size:26px\;"><span style="font-family:arial\;">980 Chambers Blvd.<br />\nBardstown\, KY 40004</span></span><br />\n<br />\n&nbsp\;</div>\n
LOCATION:
UID:e.2912.3579
SEQUENCE:3
DTSTAMP:20260424T161045Z
URL:https://members.bardstownchamber.com/events/details/staffmark-ribbon-cutting-3579
END:VEVENT

END:VCALENDAR
