BEGIN:VCALENDAR
VERSION:2.0
PRODID:-//ChamberMaster//Event Calendar 2.0//EN
METHOD:PUBLISH
X-PUBLISHED-TTL:P3D
REFRESH-INTERVAL:P3D
CALSCALE:GREGORIAN
BEGIN:VEVENT
DTSTART:20191016T153000Z
DTEND:20191016T170000Z
X-MICROSOFT-CDO-ALLDAYEVENT:FALSE
SUMMARY:Spruce Up Your Holiday Marketing Plan
DESCRIPTION:10/16 Livestream: Spruce Up Your Holiday Marketing Plan\n\n\n\nJoin Google and Constant Contact for our annual holiday livestream. Prior to this workshop\, small businesses should visit google.com/smallbusiness to create an action plan for themselves.\n\nGather your community together for this livestream as we dive into three ways to reach customers\, just in time for the holiday shopping rush. Topics include: Google My Business listings\, online advertising\, and email marketing.
X-ALT-DESC;FMTTYPE=text/html:<div class="activity-popup-item-header" data-aura-rendered-by="2:605\;a" style="box-sizing: border-box\; font-size: 18px\; margin-bottom: 1rem\; color: rgb(102\, 102\, 102)\; font-family: Roboto\; background-color: rgb(255\, 255\, 255)\;"><span style="color:#000000\;"><span style="font-size:16px\;"><span style="font-family:arial\;">10/16 Livestream: <span style="text-align: center\; background-color: rgb(255\, 255\, 255)\;">Spruce Up Your Holiday Marketing Plan</span></span></span></span></div>\n\n<div class="activity-popup-item-body" data-aura-rendered-by="4:605\;a" style="box-sizing: border-box\; color: rgb(102\, 102\, 102)\; font-family: Roboto\; font-size: 16px\; background-color: rgb(255\, 255\, 255)\;">\n<div class="activity-popup-item-body-top" data-aura-rendered-by="5:605\;a" style="box-sizing: border-box\; display: flex\; flex-direction: row\; justify-content: space-between\;">\n<div class="activity-popup-item-text" data-aura-rendered-by="7:605\;a" style="box-sizing: border-box\; font-size: 15px\; padding-bottom: 4px\; color: rgb(132\, 132\, 132)\;"><span style="color:#000000\;"><span style="font-size:14px\;"><span style="font-family:arial\;">Join Google and Constant Contact for our annual holiday livestream. Prior to&nbsp\;this workshop\, small businesses should visit google.com/smallbusiness to&nbsp\;create an action plan for themselves.<br />\nGather your community together for this livestream as we dive into three ways&nbsp\;to reach customers\, just in time for the holiday shopping rush. Topics include:&nbsp\;Google My Business listings\, online advertising\, and email marketing.</span></span></span></div>\n</div>\n</div>\n
LOCATION:Bardstown Nelson County Chamber of Commerce Conference Room One Court Square Bardstown\, KY 40004
UID:e.2912.1806
SEQUENCE:3
DTSTAMP:20260419T145840Z
URL:https://members.bardstownchamber.com/events/details/spruce-up-your-holiday-marketing-plan-1806
END:VEVENT

END:VCALENDAR
