BEGIN:VCALENDAR
VERSION:2.0
PRODID:-//ChamberMaster//Event Calendar 2.0//EN
METHOD:PUBLISH
X-PUBLISHED-TTL:P3D
REFRESH-INTERVAL:P3D
CALSCALE:GREGORIAN
BEGIN:VEVENT
DTSTART;VALUE=DATE:20181006
DTEND;VALUE=DATE:20181008
TRANSP:TRANSPARENT
X-MICROSOFT-CDO-ALLDAYEVENT:TRUE
SUMMARY:Springfield-Washington County sorghum Festival
DESCRIPTION:The annual Springfield-Washington County Sorghum Festival will be October 6-7\, 2018. There will be a 5K race\, baking and baby contests\, corn hole tournament\, and a parade. Layla Spring\, who competed on American Idol\, will be here and also\, The Monarchs! The Sorghum Classic Cruise In will be Sunday afternoon! Lots of food and craft booths also!
X-ALT-DESC;FMTTYPE=text/html:The annual Springfield-Washington County Sorghum Festival will be October 6-7\, 2018. There will be a 5K race\, baking and baby contests\, corn hole tournament\, and a parade. Layla Spring\, who competed on American Idol\, will be here and also\, The Monarchs! The Sorghum Classic Cruise In will be Sunday afternoon! Lots of food and craft booths also!
LOCATION:Springfield\, KY Main Street
UID:e.2912.1562
SEQUENCE:3
DTSTAMP:20260419T182251Z
URL:https://members.bardstownchamber.com/events/details/springfield-washington-county-sorghum-festival-1562
END:VEVENT

END:VCALENDAR
