BEGIN:VCALENDAR
VERSION:2.0
PRODID:-//ChamberMaster//Event Calendar 2.0//EN
METHOD:PUBLISH
X-PUBLISHED-TTL:P3D
REFRESH-INTERVAL:P3D
CALSCALE:GREGORIAN
BEGIN:VEVENT
DTSTART:20200311T153000Z
DTEND:20200311T170000Z
X-MICROSOFT-CDO-ALLDAYEVENT:FALSE
SUMMARY:Spring into Action with Google's Business Insight Tools
DESCRIPTION:Learn how to use Google Analytics to gain insights about how\n\nconsumers engage with businesses online. We'll discuss best practices\n\nto analyze customer trends and turn these insights into actionable\n\ndecisions\, and we'll explore Market Finder\, Google's free tool that helps\n\nidentify potential markets and customers for businesses.
X-ALT-DESC;FMTTYPE=text/html:Learn how to use Google Analytics to gain insights about how<br />\nconsumers engage with businesses online. We&rsquo\;ll discuss best practices<br />\nto analyze customer trends and turn these insights into actionable<br />\ndecisions\, and we&rsquo\;ll explore Market Finder\, Google&rsquo\;s free tool that helps<br />\nidentify potential markets and customers for businesses.
LOCATION:Chamber Conference Room One Court Square Bardstown\, KY 40004
UID:e.2912.2841
SEQUENCE:3
DTSTAMP:20260419T235243Z
URL:https://members.bardstownchamber.com/events/details/spring-into-action-with-google-s-business-insight-tools-2841
END:VEVENT

END:VCALENDAR
