BEGIN:VCALENDAR
VERSION:2.0
PRODID:-//ChamberMaster//Event Calendar 2.0//EN
METHOD:PUBLISH
X-PUBLISHED-TTL:P3D
REFRESH-INTERVAL:P3D
CALSCALE:GREGORIAN
BEGIN:VEVENT
DTSTART:20180928T143000Z
DTEND:20180928T180000Z
X-MICROSOFT-CDO-ALLDAYEVENT:FALSE
SUMMARY:Special Olympics Pork chop Fundraiser
DESCRIPTION:Pork Chop Fundraiser  Friday September 28th Nelson County Special Olmpics \n\nPork chops Only $5.00\n\nPorkchop and chips $6.00\n\n Drinks for walk up only \n\nDelivery Avalable for pre orders of 10 or more call 502-836-2739\n\nFirst Christian Church 175 East John Rowan BLVD
X-ALT-DESC;FMTTYPE=text/html:Pork Chop Fundraiser&nbsp\; Friday September 28th Nelson County Special Olmpics&nbsp\;<br />\nPork chops Only $5.00<br />\nPorkchop and chips $6.00<br />\n&nbsp\;Drinks for walk up only&nbsp\;<br />\nDelivery Avalable for pre orders of 10 or more call 502-836-2739<br />\nFirst Christian Church 175 East John Rowan BLVD&nbsp\;
LOCATION:
UID:e.2912.1601
SEQUENCE:3
DTSTAMP:20260419T211726Z
URL:https://members.bardstownchamber.com/events/details/special-olympics-pork-chop-fundraiser-1601
END:VEVENT

END:VCALENDAR
