BEGIN:VCALENDAR
VERSION:2.0
PRODID:-//ChamberMaster//Event Calendar 2.0//EN
METHOD:PUBLISH
X-PUBLISHED-TTL:P3D
REFRESH-INTERVAL:P3D
CALSCALE:GREGORIAN
BEGIN:VEVENT
DTSTART:20201110T140000Z
DTEND:20201110T200000Z
X-MICROSOFT-CDO-ALLDAYEVENT:FALSE
SUMMARY:Small Business Summit\, hosted by Mercer Chamber of Commerce
DESCRIPTION:This event will be held virtually with 4 organizations presenting and offering information\, services and what programs are available to our small businesses. The four organizations that will be presenting at the event will be: The Kentucky Career Center\, EKU\, Small Business Administration (SBA) and the Small Business Development Center (SBDC). Register at https://bgwib.us/events.
X-ALT-DESC;FMTTYPE=text/html:<span style="font-size: 12pt\; font-family: Arial\, sans-serif\;">This&nbsp\;event will be held virtually with 4 organizations presenting and offering information\, services and what programs are available to our small businesses. The four organizations that will be presenting at the event will be: The Kentucky Career Center\, EKU\, Small Business Administration (SBA) and the Small Business Development Center (SBDC). Register at&nbsp\;</span><span style="font-size:16px\;">https://bgwib.us/events.</span>
LOCATION:Online
UID:e.2912.2899
SEQUENCE:3
DTSTAMP:20260424T080814Z
URL:https://members.bardstownchamber.com/events/details/small-business-summit-hosted-by-mercer-chamber-of-commerce-2899
END:VEVENT

END:VCALENDAR
