BEGIN:VCALENDAR
VERSION:2.0
PRODID:-//ChamberMaster//Event Calendar 2.0//EN
METHOD:PUBLISH
X-PUBLISHED-TTL:P3D
REFRESH-INTERVAL:P3D
CALSCALE:GREGORIAN
BEGIN:VEVENT
DTSTART;VALUE=DATE:20181124
DTEND;VALUE=DATE:20181125
TRANSP:TRANSPARENT
X-MICROSOFT-CDO-ALLDAYEVENT:TRUE
SUMMARY:Small Business Saturday
DESCRIPTION:Shop small and make a differnce by shoping small in bardstown. We encourage everyone to make it a day shop\, eat and drink.
X-ALT-DESC;FMTTYPE=text/html:Shop small and make a differnce by shoping small in bardstown. We encourage everyone to make it a day shop\, eat and drink.&nbsp\;
LOCATION:
UID:e.2912.1587
SEQUENCE:3
DTSTAMP:20260419T181119Z
URL:https://members.bardstownchamber.com/events/details/small-business-saturday-1587
END:VEVENT

END:VCALENDAR
