BEGIN:VCALENDAR
VERSION:2.0
PRODID:-//ChamberMaster//Event Calendar 2.0//EN
METHOD:PUBLISH
X-PUBLISHED-TTL:P3D
REFRESH-INTERVAL:P3D
CALSCALE:GREGORIAN
BEGIN:VEVENT
DTSTART;VALUE=DATE:20171125
DTEND;VALUE=DATE:20171126
TRANSP:TRANSPARENT
X-MICROSOFT-CDO-ALLDAYEVENT:TRUE
SUMMARY:Small Business Saturday
DESCRIPTION:Support our Local Businesses on Small Business Saturday!\n\n\n\nSpecial Local Discounts\n\n	White Oak Salon-  20% any hair service for the month of November with Christa! \n	Kentucky Gun Company- Starting November 15th through the end of 2017.  Smith & Wesson is offering a $50 prepaid Mastercard with the purchase of any new revolver and/or Bodyguard 380acp pistol! Kentucky Gun Co. is sweetening the deal by slashing prices on select S&W models!! Stop in store or go online and take advantage of S&W rebates and KyGunCo sale pricing and SAVE NOW!!! kyg.co/SWRebate\n	Fresh Coffee\, Pastries & More-  Buy  $20 in gift certificates and receive a free coffee .Buy  $50 in gift certificate and receive a certificate for a free lunch. For every $10 spent you receive an entry to our "Shop Small Saturday Coffee Basket Giveaway\n	Gamescience Dice: Buy 1 item at regular price get second item of equal or lesser \n	value at 50% off.\n	Medica: 20% off over the counter item at all 3 of the stores...Bardstown\, Bloomfield & Springfield in the Simply Put that can be used on Black Friday here is the coupon for the announcement.\n	Shaq & CoCo: 20% off jackets/coats.  Free Natural Life gift bag with $20 Natural Life purchase\, while supplies last\n	Corvins Furniture: 20% off the original price of in-stock furniture. \n	On-the-GO Foods: Buy $100 in gift cards & get $20 gift card free.  NOTE: On-the-GO Foods will not actually open on Saturday\, but will have this offer available the entire month of December.  \n	Peacock on 3rd: 25% all jewelry excluding our Ronaldo jewelry and 25% off boots.\n	Artists Barrel: Will be having sales\, drawing for gift certificates\, drawing for gift baskets\, and Refreshments.\n	Oh La La Boutique: 10% of non-sale items\n	Just Jane/ Merle Norman: Free car freshener with any $20 or more woodwick candle purchase. 25% off all apparel. Buy 4 ginger snaps at $6 each and get the 5th FREE! and more in store specials....\n	Bardstown Country Club/ Maywood: For every $50 gift certificate bought you get $10 Maywood Bucks. \n	Wilson & Muir Bank:  Visit any branch and fuel up on Coffee and Donuts before shopping.
X-ALT-DESC;FMTTYPE=text/html:Supp<strong>ort our Local Businesses on Small Business Saturday!<br />\n<br />\n<span style="font-size:20px\;"><u><span style="color: rgb(51\, 51\, 51)\; font-family: sans-serif\, Arial\, Verdana\, &quot\;Trebuchet MS&quot\;\; background-color: rgb(255\, 255\, 255)\;">Special Local Discounts</span></u></span></strong>\n<ul>\n	<li><span style="font-size:20px\;"><span style="color: rgb(51\, 51\, 51)\; background-color: rgb(255\, 255\, 255)\;"><strong>White Oak Salon</strong>-&nbsp\; 20% any hair service for the month of November with Christa!&nbsp\;</span></span></li>\n	<li><span style="font-size:20px\;"><strong>Kentucky Gun Company</strong>- Starting November 15th&nbsp\;through the end of 2017.&nbsp\;&nbsp\;Smith &amp\; Wesson is offering a $50 prepaid Mastercard with the purchase of any new <a href="https://business.facebook.com/hashtag/revolver?source=feed_text&amp\;story_id=2053115758048509">revolver</a> and/or <a href="https://business.facebook.com/hashtag/bodyguard?source=feed_text&amp\;story_id=2053115758048509">Bodyguard</a> <a href="https://business.facebook.com/hashtag/380acp?source=feed_text&amp\;story_id=2053115758048509">380acp</a> <a href="https://business.facebook.com/hashtag/pistol?source=feed_text&amp\;story_id=2053115758048509">pistol</a>! Kentucky Gun Co. is sweetening the deal by slashing prices on select S&amp\;W models!! Stop in store or go online and take advantage of S&amp\;W rebates and KyGunCo sale pricing and SAVE NOW!!! <a href="http://kyg.co/SWRebate" target="_blank">kyg.co/SWRebate</a></span></li>\n	<li><span style="font-size:20px\;"><strong>Fresh Coffee\, Pastries &amp\; More</strong>- &#8203\;Buy&nbsp\; $20 in gift certificates and receive a free coffee .Buy&nbsp\; $50 in gift certificate and receive a certificate for a free lunch.&nbsp\;For every $10 spent you receive an entry to our &quot\;Shop Small Saturday Coffee Basket Giveaway</span></li>\n	<li><span style="font-size:20px\;"><strong>Gamescience&nbsp\;Dice:</strong> Buy 1 item at regular price get second item of equal or lesser </span></li>\n	<li><span style="font-size:20px\;">value at 50% off.</span></li>\n	<li><span style="font-size:20px\;"><strong><span style="font-family:garamond\,serif\;"><span style="font-family:arial\;">Medica:</span> </span></strong><span style="font-family:arial\;">20% off over the counter item at all 3 of the stores...Bardstown\, Bloomfield &amp\; Springfield in the Simply Put that can be used on Black Friday here is the coupon for the announcement.</span></span></li>\n	<li><span style="font-family:arial narrow\,sans-serif\;"><span style="font-size:18.0pt\;"><strong>Shaq &amp\; CoCo: </strong>20% off jackets/coats.&nbsp\;</span></span>&nbsp\;<span style="font-size:18pt\;"><span style="font-family:arial narrow\,sans-serif\;">Free Natural Life gift bag with $20 Natural Life purchase\, while supplies last</span></span></li>\n	<li><span style="font-size:20px\;"><span style="color:#444444\;"><span style="font-family:georgia\,serif\;"><strong>Corvins Furniture:</strong> 20% off the original price of in-stock furniture.&nbsp\;</span></span></span></li>\n	<li><span style="font-size:20px\;"><span style="font-family:arial\;"><strong>On-the-GO Foods: </strong>Buy $100 in gift cards &amp\; get $20 gift card free.&nbsp\; NOTE: On-the-GO Foods will not actually open on Saturday\, but will have this offer available the entire month of December.&nbsp\;</span></span>&nbsp\;</li>\n	<li><span style="font-size:20px\;"><span style="font-family:arial\;"><strong>Peacock on 3rd:</strong> 25% all jewelry excluding our Ronaldo jewelry and 25% off boots.</span></span></li>\n	<li><span style="font-size:20px\;"><span style="font-family:arial\;"><strong>Artists Barrel:</strong> Will be having sales\, drawing for gift certificates\, drawing for gift baskets\, and&nbsp\;Refreshments.</span></span></li>\n	<li><span style="font-size:20px\;"><span style="font-family:arial\;"><strong>Oh La La Boutique:</strong> 10% of non-sale items</span></span></li>\n	<li><span style="font-family:arial\;"><span style="font-size:20px\;"><strong>Just Jane/ Merle Norman:</strong> Free car freshener with any $20 or more woodwick candle purchase. 25% off all apparel. Buy 4 ginger snaps at $6 each and get the 5th FREE! and more in store specials....</span></span></li>\n	<li><span style="font-family:arial\;"><span style="font-size:20px\;"><strong>Bardstown Country Club/ Maywood:</strong> For every $50 gift certificate bought you get $10 Maywood Bucks.&nbsp\;</span></span></li>\n	<li><span style="font-family:arial\;"><span style="font-size:20px\;"><strong>Wilson &amp\; Muir Bank:</strong>&nbsp\; Visit any branch and fuel up on Coffee and Donuts before shopping.&nbsp\;</span></span></li>\n</ul>\n\n<p><o:p></o:p></p>\n
LOCATION:Chamber Members offering special deals this day are TBA!
UID:e.2912.1400
SEQUENCE:3
DTSTAMP:20260424T081408Z
URL:https://members.bardstownchamber.com/events/details/small-business-saturday-1400
END:VEVENT

END:VCALENDAR
