BEGIN:VCALENDAR
VERSION:2.0
PRODID:-//ChamberMaster//Event Calendar 2.0//EN
METHOD:PUBLISH
X-PUBLISHED-TTL:P3D
REFRESH-INTERVAL:P3D
CALSCALE:GREGORIAN
BEGIN:VEVENT
DTSTART:20180913T170000Z
DTEND:20180913T190000Z
X-MICROSOFT-CDO-ALLDAYEVENT:FALSE
SUMMARY:Sip & Savor in the Spirit of Old Kentucky™
DESCRIPTION:Enjoy a Bourbon and food pairing experience with Bourbon dignitaries while learning why complex Bourbon flavors complement these foods. Thursday\, Sept 13th features Bourbon & Chocolate.
X-ALT-DESC;FMTTYPE=text/html:Enjoy a Bourbon and food pairing experience with Bourbon dignitaries while learning why complex Bourbon flavors complement these foods. Thursday\, Sept 13th features Bourbon &amp\; Chocolate.
LOCATION:Spalding Hall Chapel\, 114 N. Fifth St.\, Bardstown\, KY
UID:e.2912.1489
SEQUENCE:3
DTSTAMP:20260419T200153Z
URL:https://members.bardstownchamber.com/events/details/sip-savor-in-the-spirit-of-old-kentucky-1489
END:VEVENT

END:VCALENDAR
