BEGIN:VCALENDAR
VERSION:2.0
PRODID:-//ChamberMaster//Event Calendar 2.0//EN
METHOD:PUBLISH
X-PUBLISHED-TTL:P3D
REFRESH-INTERVAL:P3D
CALSCALE:GREGORIAN
BEGIN:VEVENT
DTSTART:20180714T160000Z
DTEND:20180715T030000Z
X-MICROSOFT-CDO-ALLDAYEVENT:FALSE
SUMMARY:Singing in the Side yard at the Rickhouse
DESCRIPTION:An all day event filled with bands\, draft beer\, bourbon\, and barbecue!!!! We will have a wide variety of draft beer and plenty of food to go around! The music line up is: noon-3 Allen Browning and Friends\n\n4-7 Jeff Castle Band\n\n8-11 THE LOVERS          \n\n\n\nNot only can you fill your day with fun in the sun (and shade) but you can also fill up on the best barbecue in town and all your favorite drinks!\n\n\n\nPop up a lawn chair and join us!\n\nNO COVER CHARGE      \n\n\n\nWe will have 18 taps running as well as all your favorite domestics in bottles.\n\nThe brewery's represented at this event will be:\n\nRhinegeist\n\nBlue stallion\n\nGoodwood\n\nUinta\n\nApocalypse \n\nEthereal\n\nBelleview\n\nYuengling \n\nWest 6\n\nBlue moon\n\nAngry Orchard\n\nBraxton\n\nCountry Boy\n\nFalls city \n\nAlltechs Lexington Brewing Company\n\n\n\nDomestics:\n\nBudweiser products\n\nMiller Coors products\n\nSee Less
X-ALT-DESC;FMTTYPE=text/html:<div class="_63eu _63ev" style="box-sizing: border-box\; font-size: 14px\; max-height: none\; overflow: visible\; padding: 12px\; word-wrap: break-word\; font-family: Helvetica\, Arial\, sans-serif\; color: rgb(29\, 33\, 41)\; background-color: rgb(255\, 255\, 255)\;">\n<div class="_63ew" data-testid="event-permalink-details" style="font-family: inherit\;"><span style="font-family: inherit\;">An all day event filled with bands\, draft beer\, bourbon\, and barbecue!!!! We will have a wide variety of draft beer and plenty of food to go around! The music line up is: noon-3 Allen Browning and Friends<br />\n4-7 Jeff Castle Band<br />\n8-11 THE LOVERS &hearts\;&#65039\;&hearts\;&#65039\;&hearts\;&#65039\;&#128525\;&#128525\;&#128525\;<br />\n<br />\nNot only can you fill your day with fun in the sun (and shade) but you can also fill up on the best barbecue in town and all your favorite drinks!<br />\n<br />\nPop up a lawn chair and join us!<br />\nNO COVER CHARGE &#128558\;&#128558\;&#128558\;&#128558\;&#128522\;<br />\n<br />\nWe will have 18 taps running as well as all your favorite domestics in bottles.<br />\nThe brewery&rsquo\;s represented at this event will be:<br />\nRhinegeist<br />\nBlue stallion<br />\nGoodwood<br />\nUinta<br />\nApocalypse&nbsp\;<br />\nEthereal<br />\nBelleview<br />\nYuengling&nbsp\;<br />\nWest 6<br />\nBlue moon<br />\nAngry Orchard<br />\nBraxton<br />\nCountry Boy<br />\nFalls city&nbsp\;<br />\nAlltechs Lexington Brewing Company<br />\n<br />\nDomestics:<br />\nBudweiser products<br />\nMiller Coors products</span></div>\n</div>\n<a class="_63eo" href="https://www.facebook.com/events/181094516049891/#" lesslabel="See Less" morelabel="See More" style="color: rgb(54\, 88\, 153)\; cursor: pointer\; text-decoration-line: none\; background: rgb(255\, 255\, 255)\; border-top: 1px solid rgb(233\, 235\, 238)\; display: block\; padding: 12px 0px\; text-align: center\; border-radius: 0px 3px 3px 0px\; font-family: Helvetica\, Arial\, sans-serif\; font-size: 12px\;"><span class="_554b" style="display: inline-block\; font-family: inherit\;">See Less</span></a>
LOCATION:https://www.facebook.com/The-Rickhouse-Restaurant-And-Lounge-313063892047654/
UID:e.2912.1525
SEQUENCE:3
DTSTAMP:20260419T225223Z
URL:https://members.bardstownchamber.com/events/details/singing-in-the-side-yard-at-the-rickhouse-1525
END:VEVENT

END:VCALENDAR
