BEGIN:VCALENDAR
VERSION:2.0
PRODID:-//ChamberMaster//Event Calendar 2.0//EN
METHOD:PUBLISH
X-PUBLISHED-TTL:P3D
REFRESH-INTERVAL:P3D
CALSCALE:GREGORIAN
BEGIN:VEVENT
DTSTART:20210727T140000Z
DTEND:20210727T200000Z
X-MICROSOFT-CDO-ALLDAYEVENT:FALSE
SUMMARY:Signature Health Care Job Fair
DESCRIPTION:Join Signature Health Fair for open interviews from 10am to 4pm
X-ALT-DESC;FMTTYPE=text/html:Join Signature Health Fair for open interviews from 10am to 4pm
LOCATION:
UID:e.2912.3005
SEQUENCE:3
DTSTAMP:20260425T012922Z
URL:https://members.bardstownchamber.com/events/details/signature-health-care-job-fair-3005
END:VEVENT

END:VCALENDAR
