BEGIN:VCALENDAR
VERSION:2.0
PRODID:-//ChamberMaster//Event Calendar 2.0//EN
METHOD:PUBLISH
X-PUBLISHED-TTL:P3D
REFRESH-INTERVAL:P3D
CALSCALE:GREGORIAN
BEGIN:VEVENT
DTSTART:20201211T210000Z
DTEND:20201212T000000Z
X-MICROSOFT-CDO-ALLDAYEVENT:FALSE
SUMMARY:Shop Late at Lux Row Distillers
DESCRIPTION:Still looking for that perfect gift? The Lux Row Distillers Brand Store will be open late on Friday\, December 11th until 7:00PM. We'll have a limited allocation of our Lux Row 12 Year\, Rebel 10 Year\, Blood Oath Pact 6\, Old Ezra\, Distiller's Collections\, and more! (While supplies last\, of course.) Thanks for shopping local!
X-ALT-DESC;FMTTYPE=text/html:<span style="color: rgb(5\, 5\, 5)\; font-family: &quot\;Segoe UI Historic&quot\;\, &quot\;Segoe UI&quot\;\, Helvetica\, Arial\, sans-serif\; font-size: 15px\; background-color: rgb(255\, 255\, 255)\;">Still looking for that perfect gift? The Lux Row Distillers Brand Store will be open late on Friday\, December 11th until 7:00PM. We&#39\;ll have a limited allocation of our Lux Row 12 Year\, Rebel 10 Year\, Blood Oath Pact 6\, Old Ezra\, Distiller&#39\;s Collections\, and more! (While supplies last\, of course.) Thanks for shopping local!</span>
LOCATION:
UID:e.2912.2907
SEQUENCE:3
DTSTAMP:20260424T110858Z
URL:https://members.bardstownchamber.com/events/details/shop-late-at-lux-row-distillers-2907
END:VEVENT

END:VCALENDAR
