BEGIN:VCALENDAR
VERSION:2.0
PRODID:-//ChamberMaster//Event Calendar 2.0//EN
METHOD:PUBLISH
X-PUBLISHED-TTL:P3D
REFRESH-INTERVAL:P3D
CALSCALE:GREGORIAN
BEGIN:VEVENT
DTSTART:20250917T210000Z
DTEND:20250917T220000Z
X-MICROSOFT-CDO-ALLDAYEVENT:FALSE
SUMMARY:September Connect- Sponsored by Sarah Curtsinger Agency- State Farm
DESCRIPTION:September Connect\n\nSeptember 17\, 2025\n\n5:00 p.m.\n\n\n\nSponsored by\n\nSarah Curtsinger Agency- State Farm\n\n101 Manor Dr Ste 101\n\nBardstown\, KY 40004\n\n\n\nConnects are Networking Events Free to Members!\n\nFood. Drink. Prizes\n\n\n\nNon-members interested in joining the Chamber are welcome to attend one Connect.
X-ALT-DESC;FMTTYPE=text/html:<span style="font-size:16px\;"><span style="font-family:tahoma\;">September Connect<br />\nSeptember 17\, 2025<br />\n5:00 p.m.<br />\n<br />\nSponsored by<br />\nSarah Curtsinger Agency- State Farm<br />\n101 Manor Dr Ste 101</span></span><br />\n<span style="font-size:16px\;"><span style="font-family:tahoma\;">Bardstown\, KY 40004<br />\n<br />\nConnects are Networking Events Free to Members!<br />\nFood. Drink. Prizes<br />\n<br />\nNon-members interested in joining the Chamber are welcome to attend one Connect.&nbsp\;&nbsp\;</span></span><br />\n<br />\n&nbsp\;
LOCATION:
UID:e.2912.3566
SEQUENCE:3
DTSTAMP:20260424T180848Z
URL:https://members.bardstownchamber.com/events/details/september-connect-sponsored-by-sarah-curtsinger-agency-state-farm-3566
END:VEVENT

END:VCALENDAR
