BEGIN:VCALENDAR
VERSION:2.0
PRODID:-//ChamberMaster//Event Calendar 2.0//EN
METHOD:PUBLISH
X-PUBLISHED-TTL:P3D
REFRESH-INTERVAL:P3D
CALSCALE:GREGORIAN
BEGIN:VEVENT
DTSTART:20210915T210000Z
DTEND:20210915T220000Z
X-MICROSOFT-CDO-ALLDAYEVENT:FALSE
SUMMARY:September Connect hosted by Town & Country Bank
DESCRIPTION:Join the Bardstown-Nelson County Chamber at the September Connect.
X-ALT-DESC;FMTTYPE=text/html:Join the Bardstown-Nelson County Chamber at the September Connect.&nbsp\;
LOCATION:Town & Country Bank 201 N Third Street
UID:e.2912.3021
SEQUENCE:3
DTSTAMP:20260424T225953Z
URL:https://members.bardstownchamber.com/events/details/september-connect-hosted-by-town-country-bank-3021
END:VEVENT

END:VCALENDAR
