BEGIN:VCALENDAR
VERSION:2.0
PRODID:-//ChamberMaster//Event Calendar 2.0//EN
METHOD:PUBLISH
X-PUBLISHED-TTL:P3D
REFRESH-INTERVAL:P3D
CALSCALE:GREGORIAN
BEGIN:VEVENT
DTSTART:20200319T130000Z
DTEND:20200319T180000Z
X-MICROSOFT-CDO-ALLDAYEVENT:FALSE
SUMMARY:Senior Celebration Day
DESCRIPTION:Come Celebrate Yesturday\, today\, and tomorrow with seniors.
X-ALT-DESC;FMTTYPE=text/html:Come Celebrate Yesturday\, today\, and tomorrow with seniors.&nbsp\;
LOCATION:Pritchard Community Center 405 S. Mulberry St. Elizabethtown\, Ky 42701 Free event
UID:e.2912.2828
SEQUENCE:3
DTSTAMP:20260419T224600Z
URL:https://members.bardstownchamber.com/events/details/senior-celebration-day-2828
END:VEVENT

END:VCALENDAR
