BEGIN:VCALENDAR
VERSION:2.0
PRODID:-//ChamberMaster//Event Calendar 2.0//EN
METHOD:PUBLISH
X-PUBLISHED-TTL:P3D
REFRESH-INTERVAL:P3D
CALSCALE:GREGORIAN
BEGIN:VEVENT
DTSTART:20201014T160000Z
DTEND:20201014T170000Z
X-MICROSOFT-CDO-ALLDAYEVENT:FALSE
SUMMARY:Sell Online This Holiday Season with E-Commerce Tools
DESCRIPTION:Learn how to sell online to customers as they kick off their holiday shopping this season. We'll walk through the benefits of setting up an online store with Shopify and how to list your products on Google Shopping so that you can sell from anywhere. Plus\, learn about more helpful tools to stand out online\, such as Local Opportunity Finder and Grow My Store.
X-ALT-DESC;FMTTYPE=text/html:<span style="color:#5F6368\;"><span style="font-family:roboto\,serif\;"><span style="font-size:12.0pt\;">Learn how to sell online to customers as they kick off their holiday shopping this season. We&#39\;ll walk through the benefits of setting up an online store with Shopify and how to list your products on Google Shopping so that you can sell from anywhere. Plus\, learn about more helpful tools to stand out online\, such as Local Opportunity Finder and Grow My Store.</span></span></span>
LOCATION:Virtual Viewing Party Google Meet link will be sent by email after registration.
UID:e.2912.2892
SEQUENCE:3
DTSTAMP:20260420T055740Z
URL:https://members.bardstownchamber.com/events/details/sell-online-this-holiday-season-with-e-commerce-tools-2892
END:VEVENT

END:VCALENDAR
