BEGIN:VCALENDAR
VERSION:2.0
PRODID:-//ChamberMaster//Event Calendar 2.0//EN
METHOD:PUBLISH
X-PUBLISHED-TTL:P3D
REFRESH-INTERVAL:P3D
CALSCALE:GREGORIAN
BEGIN:VEVENT
DTSTART:20181215T160000Z
DTEND:20181215T180000Z
X-MICROSOFT-CDO-ALLDAYEVENT:FALSE
SUMMARY:Santa on the Square
DESCRIPTION:Come visit Santa on the Square!
X-ALT-DESC;FMTTYPE=text/html:Come visit Santa on the Square!&nbsp\;&nbsp\;<br />\n&nbsp\;
LOCATION:One Court Square Bardstown\, KY
UID:e.2912.1634
SEQUENCE:3
DTSTAMP:20260419T151540Z
URL:https://members.bardstownchamber.com/events/details/santa-on-the-square-12-15-2018-1634
END:VEVENT

END:VCALENDAR
