BEGIN:VCALENDAR
VERSION:2.0
PRODID:-//ChamberMaster//Event Calendar 2.0//EN
METHOD:PUBLISH
X-PUBLISHED-TTL:P3D
REFRESH-INTERVAL:P3D
CALSCALE:GREGORIAN
BEGIN:VEVENT
DTSTART:20190926T220000Z
DTEND:20190926T230000Z
X-MICROSOFT-CDO-ALLDAYEVENT:FALSE
SUMMARY:Riot! Book Cellar Discusses 'Where the Crawdads Sing"
DESCRIPTION:For years\, rumors of the "Marsh Girl" have haunted Barkley Cove\, a quiet town on the North Carolina coast. So in late 1969\, when handsome Chase Andrews is found dead\, the locals immediately suspect Kya Clark\, the so-called Marsh Girl."\n\nJoin us for drinks & discussion on this riveting novel! Can't wait to dive into this one. Stop in and purchase your copy\, today!
X-ALT-DESC;FMTTYPE=text/html:<span style="color: rgb(29\, 33\, 41)\; font-family: Helvetica\, Arial\, sans-serif\; font-size: 14px\; white-space: pre-wrap\; background-color: rgb(255\, 255\, 255)\;">For years\, rumors of the &ldquo\;Marsh Girl&rdquo\; have haunted Barkley Cove\, a quiet town on the North Carolina coast. So in late 1969\, when handsome Chase Andrews is found dead\, the locals immediately suspect Kya Clark\, the so-called Marsh Girl.&quot\;</span><br style="color: rgb(29\, 33\, 41)\; font-family: Helvetica\, Arial\, sans-serif\; font-size: 14px\; white-space: pre-wrap\; background-color: rgb(255\, 255\, 255)\;" />\n<span style="color: rgb(29\, 33\, 41)\; font-family: Helvetica\, Arial\, sans-serif\; font-size: 14px\; white-space: pre-wrap\; background-color: rgb(255\, 255\, 255)\;">Join us for drinks &amp\; discussion on this riveting novel! Can&#39\;t wait to dive into this one. Stop in and purchase your copy\, today!</span>
LOCATION:
UID:e.2912.1803
SEQUENCE:3
DTSTAMP:20260419T132751Z
URL:https://members.bardstownchamber.com/events/details/riot-book-cellar-discusses-where-the-crawdads-sing-1803
END:VEVENT

END:VCALENDAR
