BEGIN:VCALENDAR
VERSION:2.0
PRODID:-//ChamberMaster//Event Calendar 2.0//EN
METHOD:PUBLISH
X-PUBLISHED-TTL:P3D
REFRESH-INTERVAL:P3D
CALSCALE:GREGORIAN
BEGIN:VEVENT
DTSTART:20181026T160000Z
DTEND:20181026T163000Z
X-MICROSOFT-CDO-ALLDAYEVENT:FALSE
SUMMARY:Ribbon Cutting Strike a Bargain
DESCRIPTION:Owner- Jason Gordon \n\n127 Keystone Ave Bardstown KY\, 40004 \n\njbg@bardstowncable.net
X-ALT-DESC;FMTTYPE=text/html:Owner- Jason Gordon&nbsp\;<br />\n127 Keystone Ave Bardstown KY\, 40004&nbsp\;<br />\njbg@bardstowncable.net
LOCATION:
UID:e.2912.1622
SEQUENCE:3
DTSTAMP:20260419T195122Z
URL:https://members.bardstownchamber.com/events/details/ribbon-cutting-strike-a-bargain-1622
END:VEVENT

END:VCALENDAR
