BEGIN:VCALENDAR
VERSION:2.0
PRODID:-//ChamberMaster//Event Calendar 2.0//EN
METHOD:PUBLISH
X-PUBLISHED-TTL:P3D
REFRESH-INTERVAL:P3D
CALSCALE:GREGORIAN
BEGIN:VEVENT
DTSTART:20190108T170000Z
DTEND:20190108T180000Z
X-MICROSOFT-CDO-ALLDAYEVENT:FALSE
SUMMARY:Ribbon Cutting- State Farm Kasey Willett
DESCRIPTION:STATE FARM  INSURANCE AGENT\n\nKasey Willett\n\n \n\n\n\n	 \n\n\n113 N 2nd Street\n\nBardstown\, KY 40004-1521\n\n\nWe are right across from the Fivestar in Downtown Bardstown behind the old county attorneys office.\n Map & Directions  Contact Us\n\n\n\nABOUT ME\n\n24/7 Customer Service Free Notary Graduated from Nelson County High School Graduated from University of Louisville Providing Auto\, Home\, Renters\, Life & Health Insurance GIVE US A CALL FOR A QUOTE!
X-ALT-DESC;FMTTYPE=text/html:<div class="bio-head no-padding" data-v-71623221="" style="padding: 0px\; margin: 0px\; outline: 0px\; box-sizing: border-box\; color: rgb(80\, 80\, 80)\; font-family: SourceSansPro-Regular\, Arial\, sans-serif\; font-size: 16px\;">\n<p class="title" data-v-71623221="" style="padding: 0px\; margin: 0px 0px -10px\; outline: 0px\; box-sizing: border-box\; line-height: 1.32\; font-weight: 700\; font-size: 19px\; text-transform: uppercase\; font-family: SFNewsGothic-Reg\;">STATE FARM<span data-v-71623221="" style="padding: 0px\; margin: 0px\; outline: 0px\; box-sizing: border-box\;"><span style="padding: 0px\; margin: 0px\; outline: 0px\; box-sizing: border-box\;"><sup style="padding: 0px\; margin: 0px\; outline: 0px\; box-sizing: border-box\;">&reg\;</sup></span></span>&nbsp\;INSURANCE AGENT</p>\n\n<h1 class="name" data-v-71623221="" style="padding: 0px\; margin: 0px\; outline: 0px\; box-sizing: border-box\; font-size: 64px\; font-family: SFNewsGothic-Reg\, sans-serif\; color: rgb(225\, 38\, 28)\;"><span class="help-wrapper" data-v-71623221="" style="padding: 0px\; margin: 0px\; outline: 0px\; box-sizing: border-box\; display: flex\; align-items: center\;">Kasey Willett</span></h1>\n\n<h3 class="incorporated" data-v-71623221="" style="padding: 0px\; margin: 0px\; outline: 0px\; box-sizing: border-box\; font-size: 25px\; font-family: SourceSansPro-Regular\, sans-serif\; font-weight: 400\;">&nbsp\;</h3>\n</div>\n\n<ul class="designations show-above-tablet" data-v-71623221="" style="padding: 0px\; margin: 0px 0px 10px\; outline: 0px\; box-sizing: border-box\; list-style: none\; display: flex\; color: rgb(80\, 80\, 80)\; font-family: SourceSansPro-Regular\, Arial\, sans-serif\; font-size: 16px\;">\n	<li style="padding: 0px\; margin: 0px\; outline: 0px\; box-sizing: border-box\;">&nbsp\;</li>\n</ul>\n\n<h3 class="office-address" data-v-71623221="" style="padding: 0px\; margin: 0px\; outline: 0px\; box-sizing: border-box\; font-size: 25px\; font-family: SFNewsGothic-Reg\, sans-serif\; line-height: 1.32\; color: rgb(80\, 80\, 80)\;"><span data-v-09443aaa="" data-v-71623221="" style="padding: 0px\; margin: 0px\; outline: 0px\; box-sizing: border-box\;"><span data-v-09443aaa="" style="padding: 0px\; margin: 0px\; outline: 0px\; box-sizing: border-box\;">113 N 2nd Street</span><br data-v-09443aaa="" style="padding: 0px\; margin: 0px\; outline: 0px\; box-sizing: border-box\;" />\n<span data-v-09443aaa="" style="padding: 0px\; margin: 0px\; outline: 0px\; box-sizing: border-box\;">Bardstown\, KY 40004-1521</span></span></h3>\n\n<div class="mapmarker" data-v-71623221="" style="padding: 0px\; margin: 10px 0px 0px\; outline: 0px\; box-sizing: border-box\; color: rgb(80\, 80\, 80)\; font-family: SourceSansPro-Regular\, Arial\, sans-serif\; font-size: 16px\;">\n<p class="landmark show-above-tablet" data-v-71623221="" style="padding: 0px 0px 10px\; margin: 0px\; outline: 0px\; box-sizing: border-box\; line-height: 1.32\;">We are right across from the Fivestar in Downtown Bardstown behind the old county attorneys office.</p>\n<a class="bio-link" data-v-71623221="" href="https://www.google.com/maps/search/?api=1&amp\;query=37.809649%2C-85.464696&amp\;query_place_id=ChIJa72nCaBTaIgRC01_efzeUzs&amp\;z=22" id="map-link-agent-bio" rel="nofollow" style="padding: 0px\; margin: 0px\; outline: 0px\; box-sizing: border-box\; cursor: pointer\; color: rgb(10\, 112\, 188)\; text-decoration-line: none\; white-space: nowrap\; font-size: 18px\;" target="_blank">&nbsp\;Map &amp\; Directions&nbsp\;</a><a class="bio-link" data-v-27788e0d="" data-v-71623221="" href="https://kaseyismyagent.com/?fbclid=IwAR3f0g5pDg0SYlsgh3aOvlZ0vUeASK2lVANLDGE-38dpnfBF9jqLqc1s-ps#office-tab-ContactMe" id="contact-us-agent-bio" style="padding: 0px 0px 0px 15px\; margin: 0px\; outline: 0px\; box-sizing: border-box\; cursor: pointer\; color: rgb(10\, 112\, 188)\; text-decoration-line: none\; white-space: nowrap\; font-size: 18px\;">&nbsp\;Contact Us</a></div>\n\n<div class="show-above-tablet" data-v-71623221="" style="padding: 0px\; margin: 0px\; outline: 0px\; box-sizing: border-box\; color: rgb(80\, 80\, 80)\; font-family: SourceSansPro-Regular\, Arial\, sans-serif\; font-size: 16px\;">\n<div class="about-me" data-v-71623221="" style="padding: 0px\; margin: 0px\; outline: 0px\; box-sizing: border-box\;">\n<h6 class="show-above-tablet" style="padding: 0px\; margin: 30px 0px 3px\; outline: 0px\; box-sizing: border-box\; font-family: SFNewsGothic-Reg\, sans-serif\; font-size: 16px\; text-transform: uppercase\;">ABOUT ME</h6>\n\n<div class="moretext" style="padding: 0px\; margin: 0px\; outline: 0px\; box-sizing: border-box\;"><span role="region" style="padding: 0px\; margin: 0px\; outline: 0px\; box-sizing: border-box\;" tabindex="-1">24/7 Customer Service Free Notary Graduated from Nelson County High School Graduated from University of Louisville Providing Auto\, Home\, Renters\, Life &amp\; Health Insurance GIVE US A CALL FOR A QUOTE!</span></div>\n</div>\n</div>\n
LOCATION:
UID:e.2912.1650
SEQUENCE:3
DTSTAMP:20260419T133035Z
URL:https://members.bardstownchamber.com/events/details/ribbon-cutting-state-farm-kasey-willett-1650
END:VEVENT

END:VCALENDAR
