BEGIN:VCALENDAR
VERSION:2.0
PRODID:-//ChamberMaster//Event Calendar 2.0//EN
METHOD:PUBLISH
X-PUBLISHED-TTL:P3D
REFRESH-INTERVAL:P3D
CALSCALE:GREGORIAN
BEGIN:VEVENT
DTSTART:20200313T160000Z
DTEND:20200313T161500Z
X-MICROSOFT-CDO-ALLDAYEVENT:FALSE
SUMMARY:Ribbon cutting New member Splattered Paint
DESCRIPTION:Please join the Bardstown-Nelson Chamber in welcoming new member Splattered Paint  with  ribbon cutting March 13\, 2020 at noon\n\nAffordable Satisfaction Guaranteed painting\, Stephanie has 5 plus years of experience. Interior\, exterior\, Decks\, Barns\, Fences.
X-ALT-DESC;FMTTYPE=text/html:Please join the Bardstown-Nelson Chamber in welcoming new member Splattered Paint&nbsp\; with&nbsp\; ribbon cutting March 13\, 2020 at noon\n<div class="_4bl9" style="overflow-wrap: break-word\; overflow: hidden\; flex: 1 0 0px\; font-family: Helvetica\, Arial\, sans-serif\; color: rgb(28\, 30\, 33)\; font-size: 12px\; background-color: rgb(255\, 255\, 255)\;">\n<div class="_3-8w" style="margin-top: 4px\; font-family: inherit\;">Affordable Satisfaction Guaranteed painting\, Stephanie has 5 plus years of experience. Interior\, exterior\, Decks\, Barns\, Fences.</div>\n\n<div>&nbsp\;</div>\n</div>\n<br />\n&nbsp\;
LOCATION:One Court Square at the Bardstown chamber office
UID:e.2912.2843
SEQUENCE:3
DTSTAMP:20260419T225101Z
URL:https://members.bardstownchamber.com/events/details/ribbon-cutting-new-member-splattered-paint-2843
END:VEVENT

END:VCALENDAR
