BEGIN:VCALENDAR
VERSION:2.0
PRODID:-//ChamberMaster//Event Calendar 2.0//EN
METHOD:PUBLISH
X-PUBLISHED-TTL:P3D
REFRESH-INTERVAL:P3D
CALSCALE:GREGORIAN
BEGIN:VEVENT
DTSTART:20200212T133000Z
DTEND:20200212T140000Z
X-MICROSOFT-CDO-ALLDAYEVENT:FALSE
SUMMARY:Ribbon cutting New member Jenny LMT
DESCRIPTION:Please join the Bardstown-Nelson Chamber in welcoming new member Jenny LMT with  ribbon cutting February 12\, 2020 at 8:30am \n\nI have been a Licensed Massage Therapist since 2009. I am a graduate of Louisville School of Massage. I have experience in spa\, pain management\, & therapeutic settings.
X-ALT-DESC;FMTTYPE=text/html:Please join the Bardstown-Nelson Chamber in welcoming new member Jenny LMT with&nbsp\; ribbon cutting February 12\, 2020 at 8:30am&nbsp\;\n<div class="_4bl9" style="overflow-wrap: break-word\; overflow: hidden\; flex: 1 0 0px\; font-family: Helvetica\, Arial\, sans-serif\; color: rgb(28\, 30\, 33)\; font-size: 12px\; background-color: rgb(255\, 255\, 255)\;">\n<div class="_3-8w" style="margin-top: 4px\; font-family: inherit\;">I have been a Licensed Massage Therapist since 2009. I am a graduate of Louisville School of Massage. I have experience in spa\, pain management\, &amp\; therapeutic settings.</div>\n\n<div>&nbsp\;</div>\n</div>\n<br />\n&nbsp\;
LOCATION:800 E John Rowan Blvd 800 E John Rowan Blvd\, Bardstown\, KY 40004\, USA
UID:e.2912.2831
SEQUENCE:3
DTSTAMP:20260419T211855Z
URL:https://members.bardstownchamber.com/events/details/ribbon-cutting-new-member-jenny-lmt-2831
END:VEVENT

END:VCALENDAR
