BEGIN:VCALENDAR
VERSION:2.0
PRODID:-//ChamberMaster//Event Calendar 2.0//EN
METHOD:PUBLISH
X-PUBLISHED-TTL:P3D
REFRESH-INTERVAL:P3D
CALSCALE:GREGORIAN
BEGIN:VEVENT
DTSTART:20211123T170000Z
DTEND:20211123T180000Z
X-MICROSOFT-CDO-ALLDAYEVENT:FALSE
SUMMARY:Ribbon cutting Kid City USA Bardstown
DESCRIPTION:Please join the Bardstown-Nelson county Chamber in welcoming new member Kid City USA Bardstown with a ribbon cutting on November 23\, 2021 at noon. \n\nFrom infants that are 6 weeks old to kids up to 12\, our daycare programs are a great way for children to bond with other kids while under the supervision of trained staff.
X-ALT-DESC;FMTTYPE=text/html:Please join the Bardstown-Nelson county Chamber in welcoming new member Kid City USA Bardstown with a ribbon cutting on November 23\, 2021 at noon.&nbsp\;\n<div class="_4bl9" style="overflow-wrap: break-word\; overflow: hidden\; flex: 1 0 0px\; font-family: Helvetica\, Arial\, sans-serif\; color: rgb(28\, 30\, 33)\; font-size: 12px\; background-color: rgb(255\, 255\, 255)\;">\n<div class="_3-8w" style="margin-top: 4px\; font-family: inherit\;"><span style="font-size:12px\;"><span style="color: rgb(0\, 0\, 0)\; font-family: &quot\;DM Sans&quot\;\, Arial\, Helvetica\, sans-serif\; letter-spacing: -0.24px\;">From infants that are 6 weeks old to kids up to 12\, our daycare</span><span style="color: rgb(0\, 0\, 0)\; font-family: &quot\;DM Sans&quot\;\, Arial\, Helvetica\, sans-serif\; letter-spacing: -0.24px\;">&nbsp\;programs are a great way for children to bond with other kids while under the supervision of trained staff.</span></span></div>\n\n<div>&nbsp\;</div>\n</div>\n<br />\n&nbsp\;
LOCATION:104 Keystone Ave
UID:e.2912.3041
SEQUENCE:3
DTSTAMP:20260424T185151Z
URL:https://members.bardstownchamber.com/events/details/ribbon-cutting-kid-city-usa-bardstown-3041
END:VEVENT

END:VCALENDAR
