BEGIN:VCALENDAR
VERSION:2.0
PRODID:-//ChamberMaster//Event Calendar 2.0//EN
METHOD:PUBLISH
X-PUBLISHED-TTL:P3D
REFRESH-INTERVAL:P3D
CALSCALE:GREGORIAN
BEGIN:VEVENT
DTSTART:20191122T170000Z
DTEND:20191122T180000Z
X-MICROSOFT-CDO-ALLDAYEVENT:FALSE
SUMMARY:Ribbon Cutting for Woofs Grooming
DESCRIPTION:Come show your support for Woofs Grooming  with your local Chamber and its Ambassadors! They offer Pet grooming\, bathing\, anal gland expression\, nail trims and walk in services available Visit them at 982 Chambers Blvd Bardstown
X-ALT-DESC;FMTTYPE=text/html:Come show your support for Woofs Grooming&nbsp\; with your local Chamber and its Ambassadors! They offer&nbsp\;<span style="color: rgb(28\, 30\, 33)\; font-family: Helvetica\, Arial\, sans-serif\; font-size: 12px\; background-color: rgb(255\, 255\, 255)\;">Pet grooming\, bathing\, anal gland expression\, nail trims and walk in services available Visit them at 982 Chambers Blvd Bardstown&nbsp\;</span>
LOCATION:982 Chambers Blvd
UID:e.2912.2820
SEQUENCE:3
DTSTAMP:20260419T163812Z
URL:https://members.bardstownchamber.com/events/details/ribbon-cutting-for-woofs-grooming-2820
END:VEVENT

END:VCALENDAR
