BEGIN:VCALENDAR
VERSION:2.0
PRODID:-//ChamberMaster//Event Calendar 2.0//EN
METHOD:PUBLISH
X-PUBLISHED-TTL:P3D
REFRESH-INTERVAL:P3D
CALSCALE:GREGORIAN
BEGIN:VEVENT
DTSTART:20210826T160000Z
DTEND:20210826T170000Z
X-MICROSOFT-CDO-ALLDAYEVENT:FALSE
SUMMARY:Ribbon Cutting for Surely Shakes
DESCRIPTION:Meet the new management\, and try one of Surely Shakes protein Shakes or Energy teas!
X-ALT-DESC;FMTTYPE=text/html:Meet the new management\, and try one of Surely Shakes protein Shakes or Energy teas!
LOCATION:227 N. Third Street
UID:e.2912.3017
SEQUENCE:3
DTSTAMP:20260424T225733Z
URL:https://members.bardstownchamber.com/events/details/ribbon-cutting-for-surely-shakes-3017
END:VEVENT

END:VCALENDAR
