BEGIN:VCALENDAR
VERSION:2.0
PRODID:-//ChamberMaster//Event Calendar 2.0//EN
METHOD:PUBLISH
X-PUBLISHED-TTL:P3D
REFRESH-INTERVAL:P3D
CALSCALE:GREGORIAN
BEGIN:VEVENT
DTSTART:20220315T150000Z
DTEND:20220315T153000Z
X-MICROSOFT-CDO-ALLDAYEVENT:FALSE
SUMMARY:Ribbon cutting for St Joseph Montessori Children's Center
DESCRIPTION:Join us for a Ribbon cutting at St Joseph Montessori Children's Center\n\n300 W John Fitch Ave
X-ALT-DESC;FMTTYPE=text/html:Join us for a Ribbon cutting at St Joseph Montessori Children&#39\;s Center<br />\n300 W John Fitch Ave
LOCATION:
UID:e.2912.3100
SEQUENCE:3
DTSTAMP:20260424T134019Z
URL:https://members.bardstownchamber.com/events/details/ribbon-cutting-for-st-joseph-montessori-children-s-center-3100
END:VEVENT

END:VCALENDAR
