BEGIN:VCALENDAR
VERSION:2.0
PRODID:-//ChamberMaster//Event Calendar 2.0//EN
METHOD:PUBLISH
X-PUBLISHED-TTL:P3D
REFRESH-INTERVAL:P3D
CALSCALE:GREGORIAN
BEGIN:VEVENT
DTSTART:20190924T160000Z
DTEND:20190924T170000Z
X-MICROSOFT-CDO-ALLDAYEVENT:FALSE
SUMMARY:Ribbon cutting for Spa Builders of Kentucky
DESCRIPTION:After being in business refurbishing hot tubs for 10 years\, \n\nwe have expanded our company to include a retail showroom with new tubs as well as refurbished tubs.\n\nohh got iyWe are located behind My Old Kentucky Dinner Train in Bardstown\, Kentucky. \n\nWe offer two Industry leaders products\, Viking and Four Winds.\n\nWe are your source for hot tub's\, swim spas\, above-ground pools and supplies.\n\nOur years of experience will allow us to be a service provider that you can have confidence in to get the job done correctly and on time with integrity.
X-ALT-DESC;FMTTYPE=text/html:<p style="box-sizing: inherit\; margin: 0px\; color: rgb(94\, 94\, 94)\; font-family: &quot\;Open Sans&quot\;\, arial\, sans-serif\; font-size: 16px\; text-align: center\; background-color: rgb(251\, 241\, 242)\;"><span class="x-el x-el-span c1-bt c1-bu c1-b c1-c c1-d c1-e x-d-ux" style="box-sizing: inherit\; letter-spacing: unset\; text-transform: unset\;">&nbsp\;After being in business refurbishing hot tubs for 10 years\,&nbsp\;</span></p>\n\n<p style="box-sizing: inherit\; margin: 0px\; color: rgb(94\, 94\, 94)\; font-family: &quot\;Open Sans&quot\;\, arial\, sans-serif\; font-size: 16px\; text-align: center\; background-color: rgb(251\, 241\, 242)\;"><span class="x-el x-el-span c1-bt c1-bu c1-b c1-c c1-d c1-e x-d-ux" style="box-sizing: inherit\; letter-spacing: unset\; text-transform: unset\;">we have expanded our company to include a retail showroom with new tubs as well as refurbished tubs.</span></p>\n\n<p style="box-sizing: inherit\; margin: 0px\; color: rgb(94\, 94\, 94)\; font-family: &quot\;Open Sans&quot\;\, arial\, sans-serif\; font-size: 16px\; text-align: center\; background-color: rgb(251\, 241\, 242)\;"><span class="x-el x-el-span c1-bt c1-bu c1-b c1-c c1-d c1-e x-d-ux" style="box-sizing: inherit\; letter-spacing: unset\; text-transform: unset\;">ohh got iyWe are located behind&nbsp\;<a class="x-el x-el-a c1-1 c1-35 c1-9y c1-36 c1-1z c1-a1 c1-38 c1-39 c1-3e c1-2j c1-b c1-bv c1-bw x-d-ux" href="http://www.kydinnertrain.com/" rel="noopener" style="box-sizing: inherit\; background-color: transparent\; color: rgb(203\, 65\, 84)\; font-size: unset\; cursor: pointer\; text-transform: inherit\; overflow-wrap: break-word\; display: inline\;" target="_blank"><span class="x-el x-el-span c1-1 c1-2 c1-9y c1-b c1-4o x-d-ux" style="box-sizing: inherit\; font-weight: 700\; font-size: unset\;">My Old Kentucky Dinner Train</span></a>&nbsp\;in Bardstown\, Kentucky.&nbsp\;</span></p>\n\n<p style="box-sizing: inherit\; margin: 0px\; color: rgb(94\, 94\, 94)\; font-family: &quot\;Open Sans&quot\;\, arial\, sans-serif\; font-size: 16px\; text-align: center\; background-color: rgb(251\, 241\, 242)\;"><span class="x-el x-el-span c1-bt c1-bu c1-b c1-c c1-d c1-e x-d-ux" style="box-sizing: inherit\; letter-spacing: unset\; text-transform: unset\;">We offer two Industry leaders products\,<span class="x-el x-el-span c1-1 c1-2 c1-9y c1-b c1-4o x-d-ux" style="box-sizing: inherit\; font-weight: 700\; font-size: unset\;">&nbsp\;</span><a class="x-el x-el-a c1-1 c1-35 c1-9y c1-36 c1-1z c1-a1 c1-38 c1-39 c1-3e c1-2j c1-b c1-bv c1-bw x-d-ux" data-page="ec7d1e32-302d-4f08-aaec-04618f61c593" href="https://spabuildersofkentucky.com/viking" rel="" style="box-sizing: inherit\; background-color: transparent\; color: rgb(203\, 65\, 84)\; font-size: unset\; cursor: pointer\; text-transform: inherit\; overflow-wrap: break-word\; display: inline\;"><span class="x-el x-el-span c1-1 c1-2 c1-9y c1-b c1-9z x-d-ux" style="box-sizing: inherit\; font-size: unset\; font-style: italic\;"><span class="x-el x-el-span c1-1 c1-2 c1-9y c1-b c1-4o x-d-ux" style="box-sizing: inherit\; font-weight: 700\; font-size: unset\;">Viking</span></span>&nbsp\;</a>and&nbsp\;<a class="x-el x-el-a c1-1 c1-35 c1-9y c1-36 c1-1z c1-a1 c1-38 c1-39 c1-3e c1-2j c1-b c1-bv c1-bw x-d-ux" data-page="c0019ce5-93fd-454a-9bc9-14e26bcf2afd" href="https://spabuildersofkentucky.com/fourwinds" rel="" style="box-sizing: inherit\; background-color: transparent\; color: rgb(203\, 65\, 84)\; font-size: unset\; cursor: pointer\; text-transform: inherit\; overflow-wrap: break-word\; display: inline\;"><span class="x-el x-el-span c1-1 c1-2 c1-9y c1-b c1-9z x-d-ux" style="box-sizing: inherit\; font-size: unset\; font-style: italic\;"><span class="x-el x-el-span c1-1 c1-2 c1-9y c1-b c1-4o x-d-ux" style="box-sizing: inherit\; font-weight: 700\; font-size: unset\;">Four Winds</span></span></a><span class="x-el x-el-span c1-1 c1-2 c1-9y c1-b c1-9z x-d-ux" style="box-sizing: inherit\; font-size: unset\; font-style: italic\;"><span class="x-el x-el-span c1-1 c1-2 c1-9y c1-b c1-4o x-d-ux" style="box-sizing: inherit\; font-weight: 700\; font-size: unset\;">.</span></span></span></p>\n\n<p style="box-sizing: inherit\; margin: 0px\; color: rgb(94\, 94\, 94)\; font-family: &quot\;Open Sans&quot\;\, arial\, sans-serif\; font-size: 16px\; text-align: center\; background-color: rgb(251\, 241\, 242)\;"><span class="x-el x-el-span c1-bt c1-bu c1-b c1-c c1-d c1-e x-d-ux" style="box-sizing: inherit\; letter-spacing: unset\; text-transform: unset\;">We are your source for hot tub&#39\;s\, swim spas\, above-ground pools and supplies.</span></p>\n\n<p style="box-sizing: inherit\; margin: 0px\; color: rgb(94\, 94\, 94)\; font-family: &quot\;Open Sans&quot\;\, arial\, sans-serif\; font-size: 16px\; text-align: center\; background-color: rgb(251\, 241\, 242)\;"><span class="x-el x-el-span c1-bt c1-bu c1-b c1-c c1-d c1-e x-d-ux" style="box-sizing: inherit\; letter-spacing: unset\; text-transform: unset\;">Our years of experience will allow us to be a service provider that you can have confidence in to get the job done correctly and on time with integrity.</span></p>\n
LOCATION:607 N. 4th Street
UID:e.2912.1794
SEQUENCE:3
DTSTAMP:20260419T145614Z
URL:https://members.bardstownchamber.com/events/details/ribbon-cutting-for-spa-builders-of-kentucky-1794
END:VEVENT

END:VCALENDAR
