BEGIN:VCALENDAR
VERSION:2.0
PRODID:-//ChamberMaster//Event Calendar 2.0//EN
METHOD:PUBLISH
X-PUBLISHED-TTL:P3D
REFRESH-INTERVAL:P3D
CALSCALE:GREGORIAN
BEGIN:VEVENT
DTSTART:20210505T150000Z
DTEND:20210505T160000Z
X-MICROSOFT-CDO-ALLDAYEVENT:FALSE
SUMMARY:Ribbon cutting for South Central Bank
DESCRIPTION:From the moment you walk through our doors\, you'll see that we know our community. We've been here and seen the incredible growth in the communities we serve\, and we want to help our customers be part of that growth. We maintain genuine relationships with our customers   and it shows. South Central Bank has remained a leader in financial services for 50 years.\n\n\n\nJoin us for a Ribbon cutting for our New Location in Bardstown Ky
X-ALT-DESC;FMTTYPE=text/html:<span style="color: rgb(76\, 77\, 79)\; font-family: Roboto\, Helvetica\, Arial\, Verdana\, sans-serif\; font-size: 16px\; background-color: rgb(255\, 255\, 255)\;">From the moment you walk through our doors\, you&rsquo\;ll see that we know our community. We&rsquo\;ve been here and seen the incredible growth in the communities we serve\, and we want to help our customers be part of that growth. We maintain genuine relationships with our customers &ndash\; and it shows. South Central Bank has remained a leader in financial services for 50 years.<br />\n<br />\nJoin us for a Ribbon cutting for our New Location in Bardstown Ky</span>
LOCATION:209 W. Stephen Foster Ave.
UID:e.2912.2964
SEQUENCE:3
DTSTAMP:20260425T025117Z
URL:https://members.bardstownchamber.com/events/details/ribbon-cutting-for-south-central-bank-2964
END:VEVENT

END:VCALENDAR
