BEGIN:VCALENDAR
VERSION:2.0
PRODID:-//ChamberMaster//Event Calendar 2.0//EN
METHOD:PUBLISH
X-PUBLISHED-TTL:P3D
REFRESH-INTERVAL:P3D
CALSCALE:GREGORIAN
BEGIN:VEVENT
DTSTART:20211216T170000Z
DTEND:20211216T180000Z
X-MICROSOFT-CDO-ALLDAYEVENT:FALSE
SUMMARY:RIBBON CUTTING FOR SERENDIPITY SALT & SKIN SPA
DESCRIPTION:Please join the Bardstown-Nelson county Chamber in welcoming new member Serendipity Salt & Skin Spa with a ribbon cutting on December 16th\, 2021 at noon.
X-ALT-DESC;FMTTYPE=text/html:Please join the Bardstown-Nelson county Chamber in welcoming new member Serendipity Salt &amp\; Skin Spa&nbsp\;with a ribbon cutting on December 16th\, 2021 at noon.&nbsp\;\n<div class="_4bl9" style="overflow-wrap: break-word\; overflow: hidden\; flex: 1 0 0px\; font-family: Helvetica\, Arial\, sans-serif\; color: rgb(28\, 30\, 33)\; font-size: 12px\; background-color: rgb(255\, 255\, 255)\;">\n<div class="_3-8w" style="margin-top: 4px\; font-family: inherit\;">&nbsp\;</div>\n\n<div>&nbsp\;</div>\n</div>\n<br />\n&nbsp\;
LOCATION:106 W Flaget \, Bardstown\, KY\, United States\, Kentucky
UID:e.2912.3087
SEQUENCE:3
DTSTAMP:20260424T185018Z
URL:https://members.bardstownchamber.com/events/details/ribbon-cutting-for-serendipity-salt-skin-spa-3087
END:VEVENT

END:VCALENDAR
