BEGIN:VCALENDAR
VERSION:2.0
PRODID:-//ChamberMaster//Event Calendar 2.0//EN
METHOD:PUBLISH
X-PUBLISHED-TTL:P3D
REFRESH-INTERVAL:P3D
CALSCALE:GREGORIAN
BEGIN:VEVENT
DTSTART:20180820T160000Z
DTEND:20180820T170000Z
X-MICROSOFT-CDO-ALLDAYEVENT:FALSE
SUMMARY:Ribbon Cutting for Rock Drilling\, Inc
DESCRIPTION:
X-ALT-DESC;FMTTYPE=text/html:
LOCATION:5501 Buchannan Ave.\, Bardstown ky 40004
UID:e.2912.1568
SEQUENCE:3
DTSTAMP:20260419T211844Z
URL:https://members.bardstownchamber.com/events/details/ribbon-cutting-for-rock-drilling-inc-1568
END:VEVENT

END:VCALENDAR
