BEGIN:VCALENDAR
VERSION:2.0
PRODID:-//ChamberMaster//Event Calendar 2.0//EN
METHOD:PUBLISH
X-PUBLISHED-TTL:P3D
REFRESH-INTERVAL:P3D
CALSCALE:GREGORIAN
BEGIN:VEVENT
DTSTART:20190910T160000Z
DTEND:20190910T170000Z
X-MICROSOFT-CDO-ALLDAYEVENT:FALSE
SUMMARY:Ribbon cutting for On the Rocks Bartending
DESCRIPTION:About\n\nOn the Rocks Bartending is an insured mobile bartending service. Our experienced bartenders are ready to mix your favorite cocktails at your next event.\n\n\n \n\n\nRibbon cutting will be held at the Chamber office One Court Square @12:00
X-ALT-DESC;FMTTYPE=text/html:<div>&nbsp\;</div>\n\n<div>\n<div class="_5aj7 _3-8j" style="display: flex\; margin: 12px\; font-family: Helvetica\, Arial\, sans-serif\; color: rgb(28\, 30\, 33)\; font-size: 12px\;">\n<div class="_4bl9" style="overflow-wrap: break-word\; overflow: hidden\; flex: 1 0 0px\; font-family: inherit\;">\n<div class="_50f4" style="font-size: 14px\; line-height: 18px\; font-family: inherit\;">About</div>\n\n<div class="_3-8w" style="margin-top: 4px\; font-family: inherit\;">On the Rocks Bartending is an insured mobile bartending service. Our experienced bartenders are ready to mix your favorite cocktails at your next event.</div>\n</div>\n\n<div class="_4bl7 _3-99" style="overflow-wrap: break-word\; margin-left: 4px\; float: none\; font-family: inherit\;">&nbsp\;</div>\n</div>\n\n<div class="_5aj7 _3-8j" style="display: flex\; margin: 12px\; font-family: Helvetica\, Arial\, sans-serif\; color: rgb(28\, 30\, 33)\; font-size: 12px\;">Ribbon cutting will be held at the Chamber office One Court Square @12:00&nbsp\;</div>\n</div>\n
LOCATION:Bardstown Chamber office
UID:e.2912.1792
SEQUENCE:3
DTSTAMP:20260419T145343Z
URL:https://members.bardstownchamber.com/events/details/ribbon-cutting-for-on-the-rocks-bartending-1792
END:VEVENT

END:VCALENDAR
