BEGIN:VCALENDAR
VERSION:2.0
PRODID:-//ChamberMaster//Event Calendar 2.0//EN
METHOD:PUBLISH
X-PUBLISHED-TTL:P3D
REFRESH-INTERVAL:P3D
CALSCALE:GREGORIAN
BEGIN:VEVENT
DTSTART:20190905T160000Z
DTEND:20190905T170000Z
X-MICROSOFT-CDO-ALLDAYEVENT:FALSE
SUMMARY:Ribbon Cutting for New member Quick Care Oil Lube Express
DESCRIPTION:Don't forget our Ribbon Cutting is coming up soon on September 5th @12pm!\n\nFood will be provided by Bourbon City BBQ\n\nFood is slow smoked pulled pork (assorted sauces including 1792 bourbon)\, bbq chicken legs\, coleslaw\, smoked baked beans. Sweet tea\, lemonade and water.
X-ALT-DESC;FMTTYPE=text/html:<p style="margin: 0px 0px 6px\; font-family: Helvetica\, Arial\, sans-serif\; color: rgb(28\, 30\, 33)\; font-size: 14px\; background-color: rgb(255\, 255\, 255)\;">Don&#39\;t forget our Ribbon Cutting is coming up soon on September 5th @12pm!</p>\n\n<p style="margin: 6px 0px\; font-family: Helvetica\, Arial\, sans-serif\; color: rgb(28\, 30\, 33)\; font-size: 14px\; background-color: rgb(255\, 255\, 255)\;">Food will be provided by Bourbon City BBQ</p>\n\n<p style="margin: 6px 0px 0px\; display: inline\; font-family: Helvetica\, Arial\, sans-serif\; color: rgb(28\, 30\, 33)\; font-size: 14px\; background-color: rgb(255\, 255\, 255)\;">Food is slow smoked pulled pork (assorted sauces including 1792 bourbon)\, bbq chicken legs\, coleslaw\, smoked baked beans. Sweet tea\, lemonade and water.</p>\n
LOCATION:714 Bloomfield Rd
UID:e.2912.1791
SEQUENCE:3
DTSTAMP:20260419T133215Z
URL:https://members.bardstownchamber.com/events/details/ribbon-cutting-for-new-member-quick-care-oil-lube-express-1791
END:VEVENT

END:VCALENDAR
