BEGIN:VCALENDAR
VERSION:2.0
PRODID:-//ChamberMaster//Event Calendar 2.0//EN
METHOD:PUBLISH
X-PUBLISHED-TTL:P3D
REFRESH-INTERVAL:P3D
CALSCALE:GREGORIAN
BEGIN:VEVENT
DTSTART:20181029T150000Z
DTEND:20181029T160000Z
X-MICROSOFT-CDO-ALLDAYEVENT:FALSE
SUMMARY:Ribbon Cutting For Isaiah House
DESCRIPTION:Monday\, October 29th @ 11:00am \n\n100 Broadway St\, Chaplin\, KY 40004\n\nRibbon Cutting\, Tour the rooms\, Special Guest\, Food
X-ALT-DESC;FMTTYPE=text/html:Monday\, October 29th @ 11:00am&nbsp\;<br />\n100 Broadway St\, Chaplin\, KY 40004<br />\nRibbon Cutting\, Tour the rooms\, Special Guest\, Food&nbsp\;
LOCATION:
UID:e.2912.1611
SEQUENCE:3
DTSTAMP:20260419T195155Z
URL:https://members.bardstownchamber.com/events/details/ribbon-cutting-for-isaiah-house-1611
END:VEVENT

END:VCALENDAR
