BEGIN:VCALENDAR
VERSION:2.0
PRODID:-//ChamberMaster//Event Calendar 2.0//EN
METHOD:PUBLISH
X-PUBLISHED-TTL:P3D
REFRESH-INTERVAL:P3D
CALSCALE:GREGORIAN
BEGIN:VEVENT
DTSTART:20210802T040000Z
DTEND:20210802T170000Z
X-MICROSOFT-CDO-ALLDAYEVENT:FALSE
SUMMARY:Ribbon cutting for Fire & Fluff Laser Art Studio & Boutique
DESCRIPTION:Join us for a Ribbon Cutting & Grand Opening for Fire & Fluff Laser Art Studio & Boutique!!\n\n\n\nCome see their laser art and cutting board inventory\, sample their slushy mix and beef jerky\, win awesome door prizes\, and be placed in a drawing for a gift basket with an over $150 value!\n\n\n\nCan't wait to see you all
X-ALT-DESC;FMTTYPE=text/html:<font color="#4c4d4f" face="Roboto\, Helvetica\, Arial\, Verdana\, sans-serif"><span style="font-size: 16px\;">Join us for a Ribbon Cutting &amp\; Grand Opening for Fire &amp\; Fluff Laser Art Studio &amp\; Boutique!!</span></font>\n<div class="kvgmc6g5 cxmmr5t8 oygrvhab hcukyx3x c1et5uql ii04i59q" style="overflow-wrap: break-word\; margin: 0px\; white-space: pre-wrap\; font-family: &quot\;Segoe UI Historic&quot\;\, &quot\;Segoe UI&quot\;\, Helvetica\, Arial\, sans-serif\; color: rgb(5\, 5\, 5)\; font-size: 15px\; background-color: rgb(255\, 255\, 255)\;">\n<div dir="auto" style="font-family: inherit\;"><br />\nCome see their laser art and cutting board inventory\, sample their slushy mix and beef jerky\, win awesome door prizes\, and be placed in a drawing for a gift basket with an over $150 value!</div>\n</div>\n\n<div class="o9v6fnle cxmmr5t8 oygrvhab hcukyx3x c1et5uql ii04i59q" style="overflow-wrap: break-word\; margin: 0.5em 0px 0px\; white-space: pre-wrap\; font-family: &quot\;Segoe UI Historic&quot\;\, &quot\;Segoe UI&quot\;\, Helvetica\, Arial\, sans-serif\; color: rgb(5\, 5\, 5)\; font-size: 15px\; background-color: rgb(255\, 255\, 255)\;">\n<div dir="auto" style="font-family: inherit\;">Can&rsquo\;t wait to see you all</div>\n\n<div dir="auto" style="font-family: inherit\;">&nbsp\;</div>\n</div>\n
LOCATION:105 E Flaget St Bardstown Ky 40004
UID:e.2912.3008
SEQUENCE:3
DTSTAMP:20260424T230041Z
URL:https://members.bardstownchamber.com/events/details/ribbon-cutting-for-fire-fluff-laser-art-studio-boutique-3008
END:VEVENT

END:VCALENDAR
