BEGIN:VCALENDAR
VERSION:2.0
PRODID:-//ChamberMaster//Event Calendar 2.0//EN
METHOD:PUBLISH
X-PUBLISHED-TTL:P3D
REFRESH-INTERVAL:P3D
CALSCALE:GREGORIAN
BEGIN:VEVENT
DTSTART:20181024T160000Z
DTEND:20181024T170000Z
X-MICROSOFT-CDO-ALLDAYEVENT:FALSE
SUMMARY:Ribbon cutting for Crown Services
DESCRIPTION:Ribbion cutting for Crown Services @ 12:00
X-ALT-DESC;FMTTYPE=text/html:Ribbion cutting for Crown Services @ 12:00
LOCATION:
UID:e.2912.1609
SEQUENCE:3
DTSTAMP:20260419T195030Z
URL:https://members.bardstownchamber.com/events/details/ribbon-cutting-for-crown-services-1609
END:VEVENT

END:VCALENDAR
