BEGIN:VCALENDAR
VERSION:2.0
PRODID:-//ChamberMaster//Event Calendar 2.0//EN
METHOD:PUBLISH
X-PUBLISHED-TTL:P3D
REFRESH-INTERVAL:P3D
CALSCALE:GREGORIAN
BEGIN:VEVENT
DTSTART:20190320T160000Z
DTEND:20190320T170000Z
X-MICROSOFT-CDO-ALLDAYEVENT:FALSE
SUMMARY:Ribbon Cutting for Cannabis Phrog
DESCRIPTION:Ribbon cutting for Cannabis Phrog
X-ALT-DESC;FMTTYPE=text/html:Ribbon cutting for Cannabis Phrog&nbsp\;
LOCATION:213 Culpepper St\, Bardstown\, KY 40004
UID:e.2912.1697
SEQUENCE:3
DTSTAMP:20260421T095531Z
URL:https://members.bardstownchamber.com/events/details/ribbon-cutting-for-cannabis-phrog-1697
END:VEVENT

END:VCALENDAR
