BEGIN:VCALENDAR
VERSION:2.0
PRODID:-//ChamberMaster//Event Calendar 2.0//EN
METHOD:PUBLISH
X-PUBLISHED-TTL:P3D
REFRESH-INTERVAL:P3D
CALSCALE:GREGORIAN
BEGIN:VEVENT
DTSTART:20191113T210000Z
DTEND:20191113T220000Z
X-MICROSOFT-CDO-ALLDAYEVENT:FALSE
SUMMARY:Ribbon Cutting for Bourbon Chairty
DESCRIPTION:Come show your support for Bourbon Chairty with your local Chamber and its Ambassadors!\n\nBourbon Charity is a nonprofit organization that uses its social media following to raise money for charity.
X-ALT-DESC;FMTTYPE=text/html:Come show your support for Bourbon Chairty with your local Chamber and its Ambassadors!<br />\nBourbon Charity is a nonprofit organization that uses its social media following to raise money for charity.
LOCATION:One Court Square Bardstown Ky\, 40004
UID:e.2912.2812
SEQUENCE:3
DTSTAMP:20260419T163643Z
URL:https://members.bardstownchamber.com/events/details/ribbon-cutting-for-bourbon-chairty-2812
END:VEVENT

END:VCALENDAR
