BEGIN:VCALENDAR
VERSION:2.0
PRODID:-//ChamberMaster//Event Calendar 2.0//EN
METHOD:PUBLISH
X-PUBLISHED-TTL:P3D
REFRESH-INTERVAL:P3D
CALSCALE:GREGORIAN
BEGIN:VEVENT
DTSTART:20180817T180000Z
DTEND:20180817T190000Z
X-MICROSOFT-CDO-ALLDAYEVENT:FALSE
SUMMARY:Ribbon Cutting for Bluegrass Assisted Living
DESCRIPTION:107 Thurway Dr\, Bardstown Ky 40004
X-ALT-DESC;FMTTYPE=text/html:107 Thurway Dr\, Bardstown Ky 40004
LOCATION:
UID:e.2912.1567
SEQUENCE:3
DTSTAMP:20260419T211952Z
URL:https://members.bardstownchamber.com/events/details/ribbon-cutting-for-bluegrass-assisted-living-1567
END:VEVENT

END:VCALENDAR
