BEGIN:VCALENDAR
VERSION:2.0
PRODID:-//ChamberMaster//Event Calendar 2.0//EN
METHOD:PUBLISH
X-PUBLISHED-TTL:P3D
REFRESH-INTERVAL:P3D
CALSCALE:GREGORIAN
BEGIN:VEVENT
DTSTART:20181127T170000Z
DTEND:20181127T180000Z
X-MICROSOFT-CDO-ALLDAYEVENT:FALSE
SUMMARY:Ribbon Cutting for Bluegrass American Shaman
DESCRIPTION:Ribbon Cutting at 12:00\n\nWe are a full service CBD store offering the best oils\, water solubles\, vapes and more
X-ALT-DESC;FMTTYPE=text/html:Ribbon Cutting at 12:00<br />\n<span style="color: rgb(29\, 33\, 41)\; font-family: Helvetica\, Arial\, sans-serif\; font-size: 12px\; background-color: rgb(255\, 255\, 255)\;">We are a full service CBD store offering the best oils\, water solubles\, vapes and more&nbsp\;</span>
LOCATION:
UID:e.2912.1635
SEQUENCE:3
DTSTAMP:20260419T163757Z
URL:https://members.bardstownchamber.com/events/details/ribbon-cutting-for-bluegrass-american-shaman-1635
END:VEVENT

END:VCALENDAR
