BEGIN:VCALENDAR
VERSION:2.0
PRODID:-//ChamberMaster//Event Calendar 2.0//EN
METHOD:PUBLISH
X-PUBLISHED-TTL:P3D
REFRESH-INTERVAL:P3D
CALSCALE:GREGORIAN
BEGIN:VEVENT
DTSTART:20210627T190000Z
DTEND:20210627T200000Z
X-MICROSOFT-CDO-ALLDAYEVENT:FALSE
SUMMARY:Ribbon Cutting for Bardstown Fire Department
DESCRIPTION:Ribbon cutting ceremony of the new fire house (Station 1) and the dedication of the Francis Lydian training room at 1 Arch Pendergast Way on Sunday at 3 pm.
X-ALT-DESC;FMTTYPE=text/html:<span style="color: rgb(5\, 5\, 5)\; font-family: &quot\;Segoe UI Historic&quot\;\, &quot\;Segoe UI&quot\;\, Helvetica\, Arial\, sans-serif\; font-size: 15px\; white-space: pre-wrap\; background-color: rgb(255\, 255\, 255)\;">Ribbon cutting ceremony of the new fire house (Station 1) and the dedication of the Francis Lydian training room at 1 Arch Pendergast Way on Sunday at 3 pm. </span>
LOCATION:
UID:e.2912.2995
SEQUENCE:3
DTSTAMP:20260425T012636Z
URL:https://members.bardstownchamber.com/events/details/ribbon-cutting-for-bardstown-fire-department-2995
END:VEVENT

END:VCALENDAR
