BEGIN:VCALENDAR
VERSION:2.0
PRODID:-//ChamberMaster//Event Calendar 2.0//EN
METHOD:PUBLISH
X-PUBLISHED-TTL:P3D
REFRESH-INTERVAL:P3D
CALSCALE:GREGORIAN
BEGIN:VEVENT
DTSTART:20191004T200000Z
DTEND:20191004T210000Z
X-MICROSOFT-CDO-ALLDAYEVENT:FALSE
SUMMARY:Ribbon cutting for 3rd Street Tap House
DESCRIPTION:Ribbon Cutting\,  Food & Fun \n\n30+ craft beers\,bourbon and wine
X-ALT-DESC;FMTTYPE=text/html:Ribbon Cutting\,&nbsp\; Food &amp\; Fun&nbsp\;<br />\n<span style="color: rgb(28\, 30\, 33)\; font-family: Helvetica\, Arial\, sans-serif\; font-size: 12px\; background-color: rgb(255\, 255\, 255)\;">30+ craft beers\,bourbon and wine</span>
LOCATION:112 N 3rd St Bardstown\, Kentucky
UID:e.2912.1804
SEQUENCE:3
DTSTAMP:20260419T150048Z
URL:https://members.bardstownchamber.com/events/details/ribbon-cutting-for-3rd-street-tap-house-1804
END:VEVENT

END:VCALENDAR
