BEGIN:VCALENDAR
VERSION:2.0
PRODID:-//ChamberMaster//Event Calendar 2.0//EN
METHOD:PUBLISH
X-PUBLISHED-TTL:P3D
REFRESH-INTERVAL:P3D
CALSCALE:GREGORIAN
BEGIN:VEVENT
DTSTART:20211117T214500Z
DTEND:20211117T220000Z
X-MICROSOFT-CDO-ALLDAYEVENT:FALSE
SUMMARY:Ribbon cutting Copper Top Tours
DESCRIPTION:Please join the Bardstown-Nelson county Chamber in welcoming new member Copper Top Tours with a ribbon cutting on November 17\, 2021 at 4:45PM\n\n \n\nOur small private group tours provide an intimate\, fun\, social\, and lighthearted way to see and taste Bourbon's best. Our informed guides will introduce you to the local history and culture and show you why Kentuckians are so strong in spirit.
X-ALT-DESC;FMTTYPE=text/html:Please join the Bardstown-Nelson county Chamber in welcoming new member Copper Top Tours with a ribbon cutting on November 17\, 2021 at 4:45PM\n<div class="_4bl9" style="overflow-wrap: break-word\; overflow: hidden\; flex: 1 0 0px\; font-family: Helvetica\, Arial\, sans-serif\; color: rgb(28\, 30\, 33)\; font-size: 12px\; background-color: rgb(255\, 255\, 255)\;">\n<div class="_3-8w" style="margin-top: 4px\; font-family: inherit\;">&nbsp\;</div>\n\n<div><span style="color: rgb(5\, 5\, 5)\; font-family: &quot\;Segoe UI Historic&quot\;\, &quot\;Segoe UI&quot\;\, Helvetica\, Arial\, sans-serif\; font-size: 15px\; background-color: rgb(255\, 255\, 255)\;">Our small private group tours provide an intimate\, fun\, social\, and lighthearted way to see and taste Bourbon&#39\;s best. Our informed guides will introduce you to the local history and culture and show you why Kentuckians are so strong in spirit.</span></div>\n</div>\n<br />\n&nbsp\;
LOCATION:Spalding Hall Lawn
UID:e.2912.3042
SEQUENCE:3
DTSTAMP:20260424T200957Z
URL:https://members.bardstownchamber.com/events/details/ribbon-cutting-copper-top-tours-3042
END:VEVENT

END:VCALENDAR
