BEGIN:VCALENDAR
VERSION:2.0
PRODID:-//ChamberMaster//Event Calendar 2.0//EN
METHOD:PUBLISH
X-PUBLISHED-TTL:P3D
REFRESH-INTERVAL:P3D
CALSCALE:GREGORIAN
BEGIN:VEVENT
DTSTART:20210925T133000Z
DTEND:20210925T200000Z
X-MICROSOFT-CDO-ALLDAYEVENT:FALSE
SUMMARY:Ribbon Cutting and Open House for Mr Music
DESCRIPTION:Ribbon cutting just prior to our first ever car show at 9:30AM The Car Show is scheduled for Saturday Sept 25th from 10-4\,  All cars\, trucks\, classics\, and motorcycles are welcome\, with no registration fee. We will have a local food truck as well as Kona Ice.  We are teaming up with Barktown Rescue as a fundraiser.  There will be raffles\, goodie give- a-ways\, and lots of music.
X-ALT-DESC;FMTTYPE=text/html:<span style="font-family:arial narrow\,sans-serif\;"><span style="font-size:12.0pt\;">&nbsp\;Ribbon cutting just prior to our first ever car show at 9:30AM The Car Show is scheduled for Saturday Sept 25th from 10-4\,&nbsp\; All cars\, trucks\, classics\, and motorcycles are welcome\, with no registration fee. We will have a local food truck as well as Kona Ice.&nbsp\; We are teaming up with Barktown Rescue as a fundraiser.&nbsp\; There will be raffles\,&nbsp\;goodie&nbsp\;give- a-ways\, and lots of music.&nbsp\;</span></span><br />\n<br />\n&nbsp\;
LOCATION:955 Frost Ave. unit B
UID:e.2912.3018
SEQUENCE:3
DTSTAMP:20260424T213016Z
URL:https://members.bardstownchamber.com/events/details/ribbon-cutting-and-open-house-for-mr-music-3018
END:VEVENT

END:VCALENDAR
