BEGIN:VCALENDAR
VERSION:2.0
PRODID:-//ChamberMaster//Event Calendar 2.0//EN
METHOD:PUBLISH
X-PUBLISHED-TTL:P3D
REFRESH-INTERVAL:P3D
CALSCALE:GREGORIAN
BEGIN:VEVENT
DTSTART:20211027T200000Z
DTEND:20211027T203000Z
X-MICROSOFT-CDO-ALLDAYEVENT:FALSE
SUMMARY:Ribbon cutting and Grand opening for Ceaser Beavers Graphics
DESCRIPTION:Come support a new business and chamber member Ceaser Beavers Graphics!\n\nRibbon cutting and Grand opening October 27th at 4:00PM
X-ALT-DESC;FMTTYPE=text/html:Come support a new business and chamber member&nbsp\;Ceaser Beavers Graphics!<br />\nRibbon cutting and Grand opening October 27th at 4:00PM
LOCATION:512 E. Stephen Foster Ave. Suite # 105
UID:e.2912.3032
SEQUENCE:3
DTSTAMP:20260424T201158Z
URL:https://members.bardstownchamber.com/events/details/ribbon-cutting-and-grand-opening-for-ceaser-beavers-graphics-3032
END:VEVENT

END:VCALENDAR
