BEGIN:VCALENDAR
VERSION:2.0
PRODID:-//ChamberMaster//Event Calendar 2.0//EN
METHOD:PUBLISH
X-PUBLISHED-TTL:P3D
REFRESH-INTERVAL:P3D
CALSCALE:GREGORIAN
BEGIN:VEVENT
DTSTART:20211104T123000Z
DTEND:20211104T130000Z
X-MICROSOFT-CDO-ALLDAYEVENT:FALSE
SUMMARY:Ribbon Cutting and Grand Opening
DESCRIPTION:Join us for the Grand opening of the Kentucky/India Foot and ankle building. \n\nLocated at 900 Chambers Blvd\n\nBardstown KY 40004\n\nat 8:30AM
X-ALT-DESC;FMTTYPE=text/html:Join us for the Grand opening of the Kentucky/India Foot and ankle building.&nbsp\;<br />\nLocated at 900 Chambers Blvd<br />\nBardstown KY 40004<br />\nat 8:30AM
LOCATION:
UID:e.2912.3031
SEQUENCE:3
DTSTAMP:20260424T201004Z
URL:https://members.bardstownchamber.com/events/details/ribbon-cutting-and-grand-opening-3031
END:VEVENT

END:VCALENDAR
