BEGIN:VCALENDAR
VERSION:2.0
PRODID:-//ChamberMaster//Event Calendar 2.0//EN
METHOD:PUBLISH
X-PUBLISHED-TTL:P3D
REFRESH-INTERVAL:P3D
CALSCALE:GREGORIAN
BEGIN:VEVENT
DTSTART:20170412T160000Z
DTEND:20170412T170000Z
X-MICROSOFT-CDO-ALLDAYEVENT:FALSE
SUMMARY:Ribbon Cutting
DESCRIPTION:Show your support and attend the ribbon cutting for Bullitt's Winery & Bistro!
X-ALT-DESC;FMTTYPE=text/html:<div>Show your support and attend the ribbon cutting for Bullitt&#39\;s Winery &amp\; Bistro!<br />\n&nbsp\;</div>\n
LOCATION:126 N. 3rd Street Bardstown\, KY
UID:e.2912.361
SEQUENCE:3
DTSTAMP:20260424T172048Z
URL:https://members.bardstownchamber.com/events/details/ribbon-cutting-361
END:VEVENT

END:VCALENDAR
